BEGIN:VCALENDAR
VERSION:2.0
PRODID:-//wp-events-plugin.com//7.2.3.1//EN
TZID:Europe/Berlin
X-WR-TIMEZONE:Europe/Berlin
BEGIN:VEVENT
UID:4322@frauenportal.koeln
DTSTART;TZID=Europe/Berlin:20230622T190000
DTEND;TZID=Europe/Berlin:20230622T210000
DTSTAMP:20230531T194845Z
URL:https://frauenportal.koeln/veranstaltungen/10-strategien-gegen-angst-n
 lp-info-workshop/
SUMMARY:„10 Strategien gegen Angst“ – NLP-Info-Workshop
DESCRIPTION:Jenison Thomkins zu ihrem Angebot:\n\n"Ängste blockieren uns u
 nd machen uns handlungsunfähig.\n\nEigentlich ein gutes Warnsignal unsere
 s Unbewussten\, aber schlecht\, wenn’s eigentlich nichts zu Fürchten gi
 bt\, so wie bei Flugangst\, Platzangst etc.\n\nMit einfachen Angst-Stopp-T
 echniken kannst du lernen\, die Kontrolle über deine Gefühle wieder zu 
 übernehmen\, dir zu vertrauen und dich zu entspannen!\n\nHier bekommst du
  dein kostenloses Ticket:" www.eventbrite.de/e/10-strategien-gegen-angst-n
 lp-info-workshop-tickets-463563379547
END:VEVENT
BEGIN:VTIMEZONE
TZID:Europe/Berlin
X-LIC-LOCATION:Europe/Berlin
BEGIN:DAYLIGHT
DTSTART:20230326T030000
TZOFFSETFROM:+0100
TZOFFSETTO:+0200
TZNAME:CEST
END:DAYLIGHT
END:VTIMEZONE
END:VCALENDAR