BEGIN:VCALENDAR
VERSION:2.0
PRODID:-//wp-events-plugin.com//7.2.3.1//EN
TZID:Europe/Berlin
X-WR-TIMEZONE:Europe/Berlin
BEGIN:VEVENT
UID:1928@frauenportal.koeln
DTSTART;TZID=Europe/Berlin:20190516T190000
DTEND;TZID=Europe/Berlin:20190516T210000
DTSTAMP:20190430T132206Z
URL:https://frauenportal.koeln/veranstaltungen/100-jahre-frauenfriedenskon
 gress-1919/
SUMMARY:100 Jahre Frauenfriedenskongress 1919
DESCRIPTION:Mit der Internationale Frauenliga für Frieden und Freiheit (IF
 FF) schufen die Gründerinnen ein Forum\, aus dem heraus sich Frauen bis h
 eute für eine neue Sicherheits- und Außenpolitik stark machen.\n\nAuf ih
 rem zweiten Kongress im Mai 1919 in Zürich gaben sich die Friedensfrauen 
 eine Satzung und definierten ihre zwei wichtigsten Ziele\, die in den neue
 n Namen ihrer Organisation einflossen: Women’s International League for 
 Peace and Freedom (WILPF)\, oder auf Deutsch: Internationale Frauenliga f
 ür Frieden und Freiheit (IFFF).\n\nEntsprechend dieser Zielsetzung engagi
 eren sich die IFFF-Frauen bis heute nicht nur für eine allgemeine und umf
 assende Abrüstung\, für die gewaltfreie Lösung von Konflikten sowie ein
 e Intensivierung der internationalen Zusammenarbeit\, sondern auch für so
 ziale Gerechtigkeit und die Verwirklichung von Menschenrechten\, gerade au
 ch für Frauen. Zudem verurteilen sie den Versailler-Vertrag\, der ohne di
 e Beteiligung von Frauen in Paris ausgehandelt worden war\, als Saat für 
 einen neuen Krieg.\n\nReferentin:\nDr. Susanne Hertrampf ist Historikerin.
  Sie forscht zu deutschen und internationalen Frauen(friedens)bewegungen u
 nd ist Mitglied der IFFF.\n\nVeranstalterinnen:\n 	Friedensbildungswerk\, 
 www.friedensbildungswerk.de\n 	Kölner Frauengeschichtsverein e.V.\n 	Frau
 enNetzwerk für den Frieden Bonn\, www.frauennetzwerk-fuer-frieden.de\n\nK
 ontakt:\nTel.: 0221 / 24 82 65\, E-Mail: info@frauengeschichtsverein.de\n\
 nKosten / Anmeldung:\nEintritt frei\, Spenden willkommen\n\nVeranstaltungs
 ort:\nFriedensbildungswerk\, Obenmarspforten 7-11\, 50667 Köln\, [map id=
 1086]
END:VEVENT
BEGIN:VTIMEZONE
TZID:Europe/Berlin
X-LIC-LOCATION:Europe/Berlin
BEGIN:DAYLIGHT
DTSTART:20190331T030000
TZOFFSETFROM:+0100
TZOFFSETTO:+0200
TZNAME:CEST
END:DAYLIGHT
END:VTIMEZONE
END:VCALENDAR