BEGIN:VCALENDAR
VERSION:2.0
PRODID:-//wp-events-plugin.com//7.2.3.1//EN
TZID:Europe/Berlin
X-WR-TIMEZONE:Europe/Berlin
BEGIN:VEVENT
UID:1360@frauenportal.koeln
DTSTART;TZID=Europe/Berlin:20181108T180000
DTEND;TZID=Europe/Berlin:20181108T213000
DTSTAMP:20181009T094621Z
URL:https://frauenportal.koeln/veranstaltungen/100-jahre-frauenwahlrecht-d
 ie-goettliche-ordnung/
SUMMARY:100 Jahre Frauenwahlrecht - Die göttliche Ordnung
DESCRIPTION:Die ASF Köln\, das Internationale Frauenfilmfestival Dortmund 
 | Köln und der Kölner Frauengeschichtsverein laden interessierte Frauen 
 und Männer ein\, 100 Jahre Frauenwahlrecht in Deutschland zu feiern.\n\nN
 ach einer historischen Einführung durch Irene Franken vom Frauengeschicht
 sverein und einer Einführung in den Film durch Silke Räbiger vom Frauenf
 ilmfestival wird der Film von Petra Volpe aus dem Jahr 2017 "Die göttlich
 e Ordnung" über den Kampf um das Frauenwahlrecht in der Schweiz 1971 geze
 igt.\n\nVor und nach der Veranstaltung stehen die beteiligten Organisation
 en zum Informationsaustausch bereit.\n\nFilm: Die göttliche Ordnung\nSchw
 eiz\, 1971: Nora ist eine junge Hausfrau und Mutter\, die mit ihrem Mann\,
  den zwei Söhnen und dem missmutigen Schwiegervater in einem beschauliche
 n Dorf im Appenzell lebt. Hier ist wenig von den gesellschaftlichen Umwäl
 zungen der 68er-Bewegung zu spüren. Die Dorf- und Familienordnung gerät 
 jedoch gehörig ins Wanken\, als Nora beginnt\, sich für das Frauenwahlre
 cht einzusetzen\, über dessen Einführung die Männer abstimmen sollen. B
 uch und Regie: Petra Volpe\, Dauer 1:37\, Erscheinen: Juni 2017\, Produkti
 onsland: Schweiz\, www.goettlicheordnung.de\n\nVeranstalterinnen:\n\n 	ASF
  Köln\, www.asf-koeln.de\n 	Internationales Frauenfilmfestival Dortmund |
  Köln\, www.frauenfilmfestival.eu\n 	Kölner Frauengeschichtsverein e.V.\
 n\nKosten / Anmeldung:\nEinlass ab 18 Uhr\, Eintritt frei.\n\nVeranstaltun
 gsort:\nFilmforum NRW im Museum Ludwig\, Bischofsgartenstr. 1\, 50667 Köl
 n\, [map id=1030]
END:VEVENT
BEGIN:VTIMEZONE
TZID:Europe/Berlin
X-LIC-LOCATION:Europe/Berlin
BEGIN:STANDARD
DTSTART:20181028T020000
TZOFFSETFROM:+0200
TZOFFSETTO:+0100
TZNAME:CET
END:STANDARD
END:VTIMEZONE
END:VCALENDAR