BEGIN:VCALENDAR
VERSION:2.0
PRODID:-//wp-events-plugin.com//7.2.3.1//EN
TZID:Europe/Berlin
X-WR-TIMEZONE:Europe/Berlin
BEGIN:VEVENT
UID:2054@frauenportal.koeln
DTSTART;TZID=Europe/Berlin:20190919T160000
DTEND;TZID=Europe/Berlin:20190919T210000
DTSTAMP:20190830T150044Z
URL:https://frauenportal.koeln/veranstaltungen/20-jahre-femme-total/
SUMMARY:20 Jahre Femme Total
DESCRIPTION:Aus der Ankündigung:\n\n"20 Jahre Femme Total! Wir sind stolz 
 darauf\, dass unser Netzwerk auf eine so lange Tradition zurück blicken k
 ann und das möchten wir gebührend mit euch feiern!!!\n\nUnd zwar am Do\,
  19.09.2019 • Beginn 16:00 im Atelier in der Bismarckstraße 50 in Köln
 .\n\nNeben den wunderbaren Buffet-Köstlichkeiten\, die uns Ulrike Frobeen
  zaubern wird\, wird es auch ein Unterhaltungsprogramm zum Jubiläum geben
 !\nWir freuen uns darüber\, dass so viele zugesagt haben\, uns darin zu u
 nterstützen\, den Verein Femme Total zu feiern. Wir werden würdigende R
 ückblicke\, aber auch spannende Ausblicke genießen dürfen.\n\nModeratio
 n Geschichtenerzählerin: Sonja Gellert\nGrußwort AKF Köln: Marita Alami
 \nWalkacts als Glücksfee: Gisela von Löhneysen\nJubiläumssolar und der 
 Vergleich 10 Jahre/20 Jahre Femme:\nMarianne Quast Anke Wolf spricht über
  die Femmes und stellt die Broschüre vor.\nJenison Thomkins inszeniert mi
 t uns die Femme Total- Hymne\n\nPause gegen 17:30 mit verschiedenen Köstl
 ichkeiten bis ca. 18:30.\n\nFemmes stellen Projekte vor: Elinor Maiß\, Sa
 bine Hofmann\, Stella Hahm\, Sabine König\, Viola Roth\, Regina Herwig\, 
 Elina Moravia\, u.a.\n\nDie Club-Femmes stellen sich kurz – am Platz –
  vor\, Sonja Gellert leitet es an.\nSabine Hofmann verzaubert und stärkt 
 uns mit einem Seelengesang.\nAusblick – was bringt uns die Zukunft – D
 ie goldenen Regeln des Netzwerkes: Jenison Thomkins.\n\nUnd zwischendurch 
 und immer mal wieder Musik\, Tanz und viele gute Gespräche mit alten\, eh
 emaligen und neuen Femmes!\n\nEnde des Unterhaltungsprogramms wird gegen 2
 0:00 sein. Ausklang der Feier bis 21:00.\n\nDer Eintritt ist kostenlos\, B
 uffet- und Netzwerkspenden sind willkommen. Fühl dich herzlich eingeladen
  und komm in deinem buntesten Gewand!"\n\nHier ist die Einladung: FemmeTot
 al Jubiläum 19.09.2019 (pdf-Datei: 980 KB)\n\nWeitere Informationen:\nJen
 ison Thomkins\, Tel.: 0221 / 520 767\nE-Mail: info@femmetotal.de\n\nVeran
 stalterinnen:\nFEMME TOTAL Netzwerk\n\nVeranstaltungsort:\nAtelier für NL
 P\, Bismarckstr. 50\, 50672 Köln\, [map id=1200]
END:VEVENT
BEGIN:VTIMEZONE
TZID:Europe/Berlin
X-LIC-LOCATION:Europe/Berlin
BEGIN:DAYLIGHT
DTSTART:20190331T030000
TZOFFSETFROM:+0100
TZOFFSETTO:+0200
TZNAME:CEST
END:DAYLIGHT
END:VTIMEZONE
END:VCALENDAR