BEGIN:VCALENDAR
VERSION:2.0
PRODID:-//wp-events-plugin.com//7.2.3.1//EN
TZID:Europe/Berlin
X-WR-TIMEZONE:Europe/Berlin
BEGIN:VEVENT
UID:5120@frauenportal.koeln
DTSTART;TZID=Europe/Berlin:20240824T140000
DTEND;TZID=Europe/Berlin:20240824T220000
DTSTAMP:20240628T101924Z
URL:https://frauenportal.koeln/veranstaltungen/30-jahre-frauenmediaturm-im
 -koelner-bayenturm/
SUMMARY:30 Jahre FrauenMediaTurm im Kölner Bayenturm
DESCRIPTION:Ein Fest mit Diskussionsrunden\, Musik und Lesungen.\nEröffnun
 g: Oberbürgermeisterin Henriette Reker und Alice Schwarzer.\n\nHier ist d
 ie Einladung mit Programm: 30 Jahre FMT im Kölner Bayenturm (pdf-Datei\, 
 486 KB)\n\nVeranstalterin:\nFrauenMediaTurm\nAnsprechpartnerin:\nDebora St
 ickl\, Tel.: 0221/931 881-0 (10-17 Uhr)\, E-Mail:\ninfo@frauenmediaturm.de
 \n\nKosten / Anmeldung:\nBitte anmelden unter: info@frauenmediaturm.de\n&n
 bsp\;
LOCATION:FrauenMediaTurm / Bayenturm\, Am Bayenturm 2\, 50678 Köln
GEO:50.923743;6.96701
X-APPLE-STRUCTURED-LOCATION;VALUE=URI;X-ADDRESS=Am Bayenturm 2\, Köln\, No
 rdrhein-Westfalen\, 50678\, Veranstaltungsort\, Deutschland;X-APPLE-RADIUS
 =100;X-TITLE=FrauenMediaTurm / Bayenturm:geo:50.923743,6.96701
END:VEVENT
BEGIN:VTIMEZONE
TZID:Europe/Berlin
X-LIC-LOCATION:Europe/Berlin
BEGIN:DAYLIGHT
DTSTART:20240331T030000
TZOFFSETFROM:+0100
TZOFFSETTO:+0200
TZNAME:CEST
END:DAYLIGHT
END:VTIMEZONE
END:VCALENDAR