BEGIN:VCALENDAR
VERSION:2.0
PRODID:-//wp-events-plugin.com//7.2.3.1//EN
TZID:Europe/Berlin
X-WR-TIMEZONE:Europe/Berlin
BEGIN:VEVENT
UID:5678@frauenportal.koeln
DTSTART;TZID=Europe/Berlin:20250611T183000
DTEND;TZID=Europe/Berlin:20250611T210000
DTSTAMP:20250513T115231Z
URL:https://frauenportal.koeln/veranstaltungen/30-jahre-weltfrauenkonferen
 z-peking-sexualisierte-kriegsgewalt-im-fokus/
SUMMARY:30 Jahre Weltfrauenkonferenz Peking: Sexualisierte Kriegsgewalt im 
 Fokus
DESCRIPTION:Auf der Weltfrauenkonferenz in Peking 1995 und in zahlreichen n
 achfolgenden Resolutionen des UN-Sicherheitsrates wurden Regierungen dazu 
 aufgefordert\, geschlechtsspezifische Gewalt gegen Frauen im Krieg konsequ
 ent zu ahnden und zu verhindern.\n\nBerichte aus Kriegsgebieten zeigen jed
 och\, dass sexualisierte Kriegsgewalt trotz dessen bis heute ungebrochen a
 usgeübt wird. Um zu diskutieren\, warum es bis heute keinen Durchbruch be
 i der Bekämpfung sexualisierter Kriegsgewalt gibt und welche Ursachen der
  Gewalt zugrunde liegen\, lädt Frau Oberbürgermeisterin Henriette Reker 
 zu einer Veranstaltung zum Thema sexualisierte Kriegsgewalt ein. \n\nUnter
  der Moderation von Sina Fröhndrich\, Redaktionsleiterin "Meinung und Dis
 kurs" beim Deutschlandfunk\, diskutieren zu diesem Thema miteinander:  \n\
 nDr. Monika Hauser\, Gründerin und Vorständin der internationalen Frauen
 rechtsorganisation medica mondiale und\n\nDr. Anne-Kathrin Kreft\, Politik
 wissenschaftlerin am Kriminologischen Institut Niedersachsen mit einem For
 schungsschwerpunkt zu sexualisierter Kriegsgewalt (www.anne-kathrinkreft.c
 om).\n\nIm Anschluss findet ein Empfang statt. \n\nHier ist die Einladung:
  Flyer_sex._Kriegsgewalt_im_Fokus_2025 (pdf-Datei\, 216 KB)\n\nVeranstalte
 rin:\nStadt Köln\, www.stadt-koeln.de\n\nAnsprechpartnerin:\nJessica Mosb
 ahi\, Amt der Oberbürgermeisterin\, Büro für Europa und Internationales
 : Menschenrechte und Städtepartnerschaften\, LSBTI- und Frauenrechte\, Te
 l.: 0221 / 221-21215\, E-Mail: jessica.mosbahi@stadt-koeln.de\n\nKosten / 
 Anmeldung:\nEinlass: 17.30 Uhr\, Eintritt frei. \nAnmeldungen über euroco
 logne@stadt-koeln.de
LOCATION:Rautenstrauch-Joest-Museum - Kulturen der Welt\, Cäcilienstr. 29-
 33\, 50667 Köln
GEO:50.93432;6.95031
X-APPLE-STRUCTURED-LOCATION;VALUE=URI;X-ADDRESS=Cäcilienstr. 29-33\, Köln
 \, 50667\, Veranstaltungsort\, Deutschland;X-APPLE-RADIUS=100;X-TITLE=Raut
 enstrauch-Joest-Museum - Kulturen der Welt:geo:50.93432,6.95031
END:VEVENT
BEGIN:VTIMEZONE
TZID:Europe/Berlin
X-LIC-LOCATION:Europe/Berlin
BEGIN:DAYLIGHT
DTSTART:20250330T030000
TZOFFSETFROM:+0100
TZOFFSETTO:+0200
TZNAME:CEST
END:DAYLIGHT
END:VTIMEZONE
END:VCALENDAR