BEGIN:VCALENDAR
VERSION:2.0
PRODID:-//wp-events-plugin.com//7.2.3.1//EN
TZID:Europe/Berlin
X-WR-TIMEZONE:Europe/Berlin
BEGIN:VEVENT
UID:5626@frauenportal.koeln
DTSTART;TZID=Europe/Berlin:20250427T160000
DTEND;TZID=Europe/Berlin:20250427T180000
DTSTAMP:20250331T120522Z
URL:https://frauenportal.koeln/veranstaltungen/40-jahre-frauengeschichtlic
 he-stadtspaziergaenge/
SUMMARY:40 Jahre frauengeschichtliche Stadtspaziergänge
DESCRIPTION:Am 27. April 1985 ging es los!\n\nEs war ein doppeltes Novum: I
 rene Frarnken und Edith Gwen Kiesewalter gehörten zu den Ersten in Köln\
 , die Sozialgeschichte auf der Straße erzählten und dann auch noch ein d
 amals ganz exotisches Nischenthema wie die Frauengeschichte.\n\nAnlässlic
 h des Jubiläums bietet der Kölner Frauengeschichtsverein einen ganz neue
 n Stadtrundgang rund um St. Gereon an. Wissen Sie\, wer als Gründerin der
  Kirche gilt\, und was es mit der Säule der Immakulata auf sich hat? Erw
 ähnt sei an dieser Stelle\, es geht u.a. um die erste habilierte Historik
 erin in Deutschland\, um das “Asyl” für arme Mädchen\, das “Enfant
  terrible” der ersten Frauenbewegung in Köln und eine Künstlerin der K
 ünstlervereinigung Gereonshaus.\n\nVeranstalterin:\nKölner Frauengeschic
 htsverein e.V.\n\nKontakt:\nTel.: 0221 / 24 82 65\, E-Mail: info@frauenge
 schichtsverein.de\n\nKosten / Anmeldung:\nAnmeldung erbeten. Kostenbeitrag
 : 12 Euro\n\nVeranstaltungsort:\nDer Treffpunkt wird noch bekannt gegeben.
END:VEVENT
BEGIN:VTIMEZONE
TZID:Europe/Berlin
X-LIC-LOCATION:Europe/Berlin
BEGIN:DAYLIGHT
DTSTART:20250330T030000
TZOFFSETFROM:+0100
TZOFFSETTO:+0200
TZNAME:CEST
END:DAYLIGHT
END:VTIMEZONE
END:VCALENDAR