BEGIN:VCALENDAR
VERSION:2.0
PRODID:-//wp-events-plugin.com//7.2.3.1//EN
TZID:Europe/Berlin
X-WR-TIMEZONE:Europe/Berlin
BEGIN:VEVENT
UID:4471@frauenportal.koeln
DTSTART;TZID=Europe/Berlin:20231124T180000
DTEND;TZID=Europe/Berlin:20231124T200000
DTSTAMP:20241115T121514Z
URL:https://frauenportal.koeln/veranstaltungen/434-auslegung-des-korans-au
 s-der-perspektive-muslimischer-frauen/
SUMMARY:4:34 Auslegung des Korans aus der Perspektive muslimischer Frauen
DESCRIPTION:– Vortrag und Diskussion –\n\nAnlässlich des International
 en Tages gegen Gewalt an Frauen beleuchtet die Veranstaltung die Haltung d
 es Islams zu Gewalt an Frauen. Nach einem Vortrag von Prof. Dr. Dina El Om
 ari werden die Teilnehmer*innen die Gelegenheit bekommen\, offene Fragen i
 m Plenum zu diskutieren.\n\nDie Idee zu dieser Veranstaltung entstand im K
 ontext des Projektes des Sozialdienstes muslimischer Frauen e.V. "Muslim W
 oman Matters"\, das vom Ministerium für Kinder\, Jugend\, Familie\, Gleic
 hstellung\, Flucht und Integration des Landes NRW bis zum 31.12.2023 gefö
 rdert wird. Das Projekt hat sich das Empowerment muslimischer Frauen auf l
 okaler Ebene zum Ziel gesetzt.\n\nIm Rahmen der Veranstaltung werden auße
 rdem die Projektergebnisse aus dem Projekt "41 mal Maschallah" vorgestellt
 . Es handelt sich dabei um Biografien von eingewanderten Frauen aus erster
  und zweiter Generation\, die einen Beitrag zu Politik\, Wissenschaft und 
 Zivilgesellschaft geleistet haben.\n\nIm Anschluss an die Veranstaltung fi
 ndet ab 20.15 Uhr ein musikalischer Tanzabend nur für Frauen statt.\n\nHi
 er ist die Einladung mit Programm: Sure 4 Vers 34 aus der Perspektive musl
 imischer Frauen (pdf-Datei\, 548 KB)\n\nReferentin:\nProf. Dr. Dina El Oma
 ri\, Professorin für interkulturelle Religionspädagogik am Zentrum für 
 Islamische Theologie Münster der WWU Münster\, www.netzwerk-fgf.nrw.de/w
 issenschaftlerinnen/portrait/dina-elomari\n\nVeranstalterinnen:\nSozialdie
 nstes muslimischer Frauen e.V. Köln\, https://koeln.smf-verband.de\nHeinr
 ich-Böll-Stiftung\, www.boell.de\n\nAnsprechpartnerin:\nJoanna Barelkowsk
 a\, Tel.: 30 /285 34-319\, E-Mail: barelkowska@boell.de\n\nAnmeldung:\nUm 
 Anmeldung wird gebeten unter koeln@smf-verband.de
LOCATION:Bürgerzentrum BÜZE Ehrenfeld\, Venloer Str. 429\, 50825 Köln
GEO:50.95287428;6.91240844
X-APPLE-STRUCTURED-LOCATION;VALUE=URI;X-ADDRESS=Venloer Str. 429\, Köln\, 
 50825\, Veranstaltungsort\, Deutschland;X-APPLE-RADIUS=100;X-TITLE=Bürger
 zentrum BÜZE Ehrenfeld:geo:50.95287428,6.91240844
END:VEVENT
BEGIN:VTIMEZONE
TZID:Europe/Berlin
X-LIC-LOCATION:Europe/Berlin
BEGIN:STANDARD
DTSTART:20231029T020000
TZOFFSETFROM:+0200
TZOFFSETTO:+0100
TZNAME:CET
END:STANDARD
END:VTIMEZONE
END:VCALENDAR