BEGIN:VCALENDAR
VERSION:2.0
PRODID:-//wp-events-plugin.com//7.2.3.1//EN
TZID:Europe/Berlin
X-WR-TIMEZONE:Europe/Berlin
BEGIN:VEVENT
UID:3668@frauenportal.koeln
DTSTART;TZID=Europe/Berlin:20220518T180000
DTEND;TZID=Europe/Berlin:20220518T200000
DTSTAMP:20220228T142205Z
URL:https://frauenportal.koeln/veranstaltungen/5-geheimnisse-des-erfolges-
 workshop-fuer-gruenderinnen-und-jungunternehmerinnen/
SUMMARY:5 Geheimnisse des Erfolges – Workshop für Gründerinnen und Jung
 unternehmerinnen
DESCRIPTION:Kurze Impuls-Statements zu interessanten Themen mit anschließe
 ndem Austausch in kleiner Runde.\n\nGründen Frauen anders?\n\nNach wie vo
 r finden sich erheblich weniger Frauen auf dem Weg in die Selbstständigke
 it als Männer. Das Gründerinnenpotenzial in Deutschland ist bei weitem n
 icht ausgeschöpft. Was sind die Erfolgsgeheimnisse bereits erfolgreicher 
 Gründerinnen und Unternehmerinnen?\n\nEin spannender Austausch mit fünf 
 Rednerinnen der Initiative „FRAUEN unternehmen“ des Bundesministeriums
  für Wirtschaft und Klimaschutz zu den folgenden Themen:\n\n 	Planung und
  Umgang mit Finanzen\n 	Mut zum Erfolg und Risikobereitschaft\n 	Umfeld\, 
 Unterstützung und das richtige Networking\n 	Sichtbarkeit und Entscheidun
 gsfreude\n 	Selbstführung und Einzigartigkeit\n\nHier ist die Einladung: 
 5 Geheimnisse des Erfolgs 18.05.2022 (pdf-Datei\, 183 KB)\n\nVeranstalteri
 nnen:\n\nSparkasse KölnBonn - GründerCenter\, sparkasse-koelnbonn.de\nin
  Kooperation mit\nKölner Vorbildunternehmerinnen der Initiative „FRAUEN
  unternehmen“ des Bundesministeriums für Wirtschaft und Energie (frauen
 -unternehmen-initiative.de\, www.vorbildunternehmerinnen-koeln.de)\n\nAnsp
 rechpartnerinnen:\nSue Appleton\, Tel.: 0221 / 766303\, E-Mail: info@do-lo
 op.de\nKanimoli Pavanandarajah\, E-Mail: kanimoli.pavanandarajah@sparkasse
 -koelnbonn.de\n\nKosten / Anmeldung:\nEintritt frei\, Anmeldung erforderli
 ch unter https://events.skbn.de/erfolg
END:VEVENT
BEGIN:VTIMEZONE
TZID:Europe/Berlin
X-LIC-LOCATION:Europe/Berlin
BEGIN:DAYLIGHT
DTSTART:20220327T030000
TZOFFSETFROM:+0100
TZOFFSETTO:+0200
TZNAME:CEST
END:DAYLIGHT
END:VTIMEZONE
END:VCALENDAR