BEGIN:VCALENDAR
VERSION:2.0
PRODID:-//wp-events-plugin.com//7.2.3.1//EN
TZID:Europe/Berlin
X-WR-TIMEZONE:Europe/Berlin
BEGIN:VEVENT
UID:3320@frauenportal.koeln
DTSTART;TZID=Europe/Berlin;VALUE=DATE:20210911
DTEND;TZID=Europe/Berlin;VALUE=DATE:20210912
DTSTAMP:20210823T082135Z
URL:https://frauenportal.koeln/veranstaltungen/50-jahre-frauenbewegung-im-
 frauenmediaturm-fmt-koeln/
SUMMARY:Start: „50 Jahre Frauenbewegung“ im FrauenMediaTurm (FMT) Köln
DESCRIPTION:– 11.09.2021 - 12.09.2021 –\n\nDer FrauenMediaTurm feiert i
 n diesem Jahr „50 Jahre Frauenbewegung“ mit einem Special-Event am 11.
 /12. September 2021 in Köln.\n\nDie zweitägige Veranstaltung ist eine Mi
 schung aus politischem und wissenschaftlichem Kongress sowie unterhaltende
 m Event. Drei Generationen debattieren über die großen Themen der Frauen
 bewegung: von Betroffenen (wie der Afghanin Shikiba Babori) und Aktivistin
 nen bis zu Wissenschaftlerinnen (wie den Prof. Jutta Allmendinger und Ute 
 Frevert) und Autorinnen (wie der Schriftstellerin Jenny Erpenbeck). Im zwe
 iten Teil lesen SchauspielerInnen Schlüsseltexte der Neuen Frauenbewegung
 \, vorgetragen von Mechthild Großmann bis Edgar Selge.\n\nHier ist das Pr
 ogramm: FMT_Programm_50 Jahre Frauenbewegung (pdf-datei\, 604 KB)\n\nVeran
 stalterin:\nFrauenMediaTurm\nAnsprechpartnerin:\nBerit Schallner\, Tel.: 0
 221/931 881-0 (10-17 Uhr)\, E-Mail:\n\ninfo@frauenmediaturm.de\n&nbsp\;\nK
 osten / Anmeldung:\nFür die Open-Air-Veranstaltung "50 Jahre Neue Frauenb
 ewegung" am 11. und 12. September im Kölner FrauenMediaTurm stehen begren
 zte Plätze zur Verfügung. Die Teilnahme kostet pro Tag 15 €\, für bei
 de Tage zusammen 25 €. Bezahlung nur in bar vor Ort. Bitte schicken Sie 
 eine Mail an info@frauenmediaturm.de mit dem Betreff 'Anmeldung'. In der M
 ail werden Ihre Name\, Ihre Anschrift und Telefonnummer\, sowie die Inform
 ation\, ob Sie am Samstag oder Sonntag oder an beiden Tagen teilnehmen wol
 len\, benötigt. Danach erhalten Sie eine Bestätigungsmail - oder einen H
 inweis\, falls die Plätze bereits vergeben sind.\n\nDas Event wird vollum
 fänglich und live gestreamt. Für die Teilnahme am Streaming ist keine An
 meldung erforderlich. An den Veranstaltungstagen wird der Link zum Live-St
 ream auf der Website der FMTs veröffentlicht:\nwww.frauenmediaturm.de\n&n
 bsp\;\nVeranstaltungsort:\nFrauenMediaTurm\, Am Bayenturm 2\, 50678 Köln\
 , 50678 Köln\, [map id=980]
END:VEVENT
BEGIN:VTIMEZONE
TZID:Europe/Berlin
X-LIC-LOCATION:Europe/Berlin
BEGIN:DAYLIGHT
DTSTART:20210328T030000
TZOFFSETFROM:+0100
TZOFFSETTO:+0200
TZNAME:CEST
END:DAYLIGHT
END:VTIMEZONE
END:VCALENDAR