BEGIN:VCALENDAR
VERSION:2.0
PRODID:-//wp-events-plugin.com//7.2.3.1//EN
TZID:Europe/Berlin
X-WR-TIMEZONE:Europe/Berlin
BEGIN:VEVENT
UID:1627@frauenportal.koeln
DTSTART;TZID=Europe/Berlin:20190216T100000
DTEND;TZID=Europe/Berlin:20190216T140000
DTSTAMP:20181230T104642Z
URL:https://frauenportal.koeln/veranstaltungen/7-fom-frauen-forum-koeln/
SUMMARY:»7. FOM Frauen Forum« Köln
DESCRIPTION:- Impulse erhalten – Kontakte knüpfen -\n\nNie waren die ber
 uflichen Aufstiegschancen für Frauen so gut wie heute. Weibliche Führung
 skompetenz ist gefragt und der Anteil an Managerinnen steigt stetig. Mit w
 elchen Herausforderungen sehen sich Frauen in Führungspositionen konfront
 iert? Wie können Frauen von den Erfahrungen anderer Frauen profitieren? U
 nd wie können sie sich auf ihrem Karriereweg gegenseitig unterstützen?\n
 \nDie FOM Frauen-Foren bringen Frauen zusammen\, die sich austauschen und 
 ihre Karrierechancen durch Netzwerkarbeit stärken möchten. In den Worksh
 ops\, Vorträgen und Diskussionen erhalten die Teilnehmerinnen Information
 en zu aktuellen Entwicklungen sowie Impulse für neue Ideen und Strategien
 . Bundesweit finden die FOM Frauen-Foren mehr als zwölf Mal jährlich an 
 verschiedenen Standorten statt.\n\nBeim 7. FOM Frauen-Forum Köln dreht si
 ch alles um die Fragen\, welche Hürden und Widerstände Frauen in der mod
 ernen Arbeitswelt nach wie vor zu meistern haben und wie sie sich selbstbe
 wusst und erfolgreich als Führungskraft positionieren. In drei Vorträgen
  wird demonstriert\, wie wichtig die Reflexion des eigenen Führungsstils\
 , das Durchschauen von Rollenklischees sowie geschicktes Selbstmarketing u
 nd Netzwerken für die Karriereplanung sind.\n\nIm Anschluss an die Vortr
 äge ist Möglichkeit\, mit den anderen Teilnehmerinnen ins Gespräch zu k
 ommen und in Netzwerken aktiv zu werden.\n\nHier ist das Programm: FOM_Fra
 uen-Forum_16.2.19_Köln (pdf-Datei\, 2 MB)\n\nVeranstalterin:\nFOM Hochsch
 ule. Hochschulstudienzentrum Köln\, www.fom.de\nin Kooperation mit\n\n 	K
 ölner Frauenportal\n 	B.F.B.M.\, Bundesverband der Frau in Business und M
 anagement\n 	FidAR\, Frauen in die Aufsichtsräte\, www.fidar.de\n 	EWMD\,
  European Women’s Management Development International Network\, www.ewm
 d.org\n 	BPW Germany Club Köln\n 	VdU\, Verband der Unternehmerinnen in D
 eutschland\n 	Deutscher Juristinnenbund e.V. (djb)\, www.djb.de\n 	Die Fü
 hrungskräfte\, www.die-fuehrungskraefte.de\n 	VBM\, Verband berufstätige
 r Mütter\n 	Beauftragte für Chancengleichheit am Arbeitsmarkt der Bundes
 agentur für Arbeit Köln\n 	Petek Business-Netzwerk Migrantinnen\n\nAnspr
 echpartnerin:\nJudith Neuhoff\,  Tel.: 0221 / 801478-56\, E-Mail: judith.
 neuhoff@fom.de\n\nKosten / Anmeldung:\nDie Teilnahme am »FOM Frauen Forum
 « ist kostenfrei. Bitte melden Sie sich vorab verbindlich an über Tel.: 
 0800 1 95 95 95 oder E-Mail: studienberatung@fom.de\n\nVeranstaltungsort:\
 nFOM Hochschule. Hochschulzentrum Köln\, Rheinauhafen Süd\, Agrippinawer
 ft 4\, 50678 Köln\, Lageplan
END:VEVENT
BEGIN:VTIMEZONE
TZID:Europe/Berlin
X-LIC-LOCATION:Europe/Berlin
BEGIN:STANDARD
DTSTART:20181028T020000
TZOFFSETFROM:+0200
TZOFFSETTO:+0100
TZNAME:CET
END:STANDARD
END:VTIMEZONE
END:VCALENDAR