BEGIN:VCALENDAR
VERSION:2.0
PRODID:-//wp-events-plugin.com//7.2.3.1//EN
TZID:Europe/Berlin
X-WR-TIMEZONE:Europe/Berlin
BEGIN:VEVENT
UID:2386@frauenportal.koeln
DTSTART;TZID=Europe/Berlin:20200229T100000
DTEND;TZID=Europe/Berlin:20200229T140000
DTSTAMP:20230515T081718Z
URL:https://frauenportal.koeln/veranstaltungen/8-fom-frauen-forum-koeln/
SUMMARY:»8. FOM Frauen Forum« Köln
DESCRIPTION:- Informieren – diskutieren – vernetzen -\n\nThema dieses J
 ahr: »Female Leadership: In Führung gehen – oben bleiben!«\n\nFrauen 
 sind leistungsstark\, motiviert und qualifiziert\, weibliche Führungskomp
 etenz gilt als Bereicherung der Unternehmenskultur. Immer mehr »Karrieref
 rauen« belegen Spitzenpositionen und sind beruflich äußerst erfolgreich
 . Aber warum bleiben die Zahlen der weiblichen Führungskräfte dennoch hi
 nter den Erwartungen zurück? Welche Hindernisse erschweren Frauen den Weg
  in die Chefetagen? Bei den FOM Frauen-Foren kommen Frauen zusammen\, um k
 arrierespezifische Themen zu diskutieren und in Netzwerken aktiv zu werden
 . In Vorträgen und Workshops erhalten sie Informationen zu aktuellen Entw
 icklungen sowie Anregungen\, die eigene Situation zu reflektieren und neue
  Wege einzuschlagen.\n\nDas 8. FOM Frauen-Forum Köln nimmt weibliches Kar
 riere- und Führungsverhalten unter die Lupe und geht der Frage nach\, wie
  sich das Verhalten von Frauen in Verhandlungssituationen von dem ihrer m
 ännlichen Kollegen unterscheidet. Es wird beleuchtet\, was einen weiblich
 en Führungsstil ausmacht\, wie wichtig das Vertrauen in die eigenen Fähi
 gkeiten und das Entwickeln von konkreten Karrierezielen für den beruflich
 en Erfolg sind. Im Anschluss an die Vorträge haben Sie in der Netzwerklou
 nge die Möglichkeit\, Kontakte zu knüpfen\, sich aus zutauschen und die 
 Themen weiter zu vertiefen.\n\nHier ist die Einladung mit Programm: Flyer 
 8. FOM Frauen-Forum Köln_29.2.20 (pdf-Datei\, 2 MB)\n\nVeranstalterin:\nF
 OM Hochschule. Hochschulstudienzentrum Köln\, www.fom.de\nin Kooperation 
 mit\n\n 	Kölner Frauenportal\n 	B.F.B.M.\, Bundesverband der Frau in Busi
 ness und Management\n 	FidAR\, Frauen in die Aufsichtsräte\, www.fidar.de
 \n 	EWMD\, European Women’s Management Development International Network
 \, www.ewmd.org\n 	BPW Germany Club Köln\n 	VdU\, Verband der Unternehmer
 innen in Deutschland\n 	Deutscher Juristinnenbund e.V. (djb)\, www.djb.de\
 n 	Die Führungskräfte\, www.die-fuehrungskraefte.de\n 	VBM\, Verband ber
 ufstätiger Mütter\n 	Beauftragte für Chancengleichheit am Arbeitsmarkt 
 der Bundesagentur für Arbeit Köln\n 	Petek Business-Netzwerk Migrantinne
 n\n 	deutscher ingenieurinnenbund (dib) e.V.\, www.dibev.de\n 	#DMW – Di
 gital Media Women e.V.\, www.digitalmediawomen.de\n 	Competentia – Kompe
 tenzzentrum Frau &amp\; Beruf Region Köln\, www.competentia-region-koeln.
 de\n\nAnsprechpartnerin:\nJudith Neuhoff\,  Tel.: 0221 / 801478-56\, E-Ma
 il: judith.neuhoff@fom.de\n\nKosten / Anmeldung:\nDie Teilnahme an der Ver
 anstaltung ist kostenfrei.\n\nVeranstaltungsort:\nFOM Hochschule. Hochschu
 lzentrum Köln\, Rheinauhafen Süd\, Agrippinawerft 4\, 50678 Köln\, [map
  id=1049]
END:VEVENT
BEGIN:VTIMEZONE
TZID:Europe/Berlin
X-LIC-LOCATION:Europe/Berlin
BEGIN:STANDARD
DTSTART:20191027T020000
TZOFFSETFROM:+0200
TZOFFSETTO:+0100
TZNAME:CET
END:STANDARD
END:VTIMEZONE
END:VCALENDAR