BEGIN:VCALENDAR
VERSION:2.0
PRODID:-//wp-events-plugin.com//7.2.3.1//EN
TZID:Europe/Berlin
X-WR-TIMEZONE:Europe/Berlin
BEGIN:VEVENT
UID:3839@frauenportal.koeln
DTSTART;TZID=Europe/Berlin:20220827T100000
DTEND;TZID=Europe/Berlin:20220827T140000
DTSTAMP:20230522T085328Z
URL:https://frauenportal.koeln/veranstaltungen/9-fom-frauen-forum-koeln/
SUMMARY:»9. FOM Frauen Forum« Köln
DESCRIPTION:- Informieren – Diskutieren – Vernetzen -\n\nThema dieses J
 ahr: »Bye\, bye Gendergap?! Chancengleichheit zwischen Wunsch und Wirklic
 hkeit«\n\nDiversity und Geschlechtergleichheit gewinnen in der Arbeitswel
 t zunehmend an Bedeutung. Doch wie sieht es mit der Umsetzung dieser guten
  Absichten in der Praxis aus? Im 9. FOM Frauen-Forum Köln gehen Expertinn
 en und Experten dieser Frage auf den Grund.\n\nIn vier Impulsvorträgen sk
 izzieren Referentinnen und ein Referent\, welche Hindernisse Frauen den We
 g in die Chefetagen erschweren und wie sich der Wandel in Richtung Geschle
 chtergleichheit beschleunigen lässt. Zudem kann gelernt werden\, wie die 
 eigenen beruflichen Ziele leichter verfolgt und schneller erreicht werden 
 können. Im Anschluss ist Gelegenheit\, sich mit den anderen Teilnehmerinn
 en auszutauschen und neue Kontakte zu knüpfen. \n\nHier ist die Einladung
  mit Programm: Flyer_09. Kölner FOM-Frauen-Forum (pdf-Datei\, 414 KB)\n\n
 Veranstalterin:\nFOM Hochschule. Hochschulstudienzentrum Köln\, www.fom.d
 e\nin Kooperation mit\n\n 	Kölner Frauenportal\nAKAD FM-FM\, www.akadfmfm
 -menschenrechte21ev.com\nBeauftragte für Chancengleichheit am Arbeitsmark
 t der Bundesagentur für Arbeit Köln\n 	B.F.B.M.\, Bundesverband der Frau
  in Business und Management\ndeutscher ingenieurinnenbund (dib) e.V.\, www
 .dibev.de\nDeutscher Juristinnenbund e.V. (djb)\, www.djb.de\nDie Führung
 skräfte\, www.die-fuehrungskraefte.de\n#DMW – Digital Media Women e.V.\
 , www.digitalmediawomen.de\nEWMD\, European Women’s Management Developme
 nt International Network\, www.ewmd.org\n 	BPW Germany Club Köln\n 	FidAR
 \, Frauen in die Aufsichtsräte\, www.fidar.de\nWomen Speaker Foundation\,
  www.1st-row.de\nWomans-Business-Club Cologne e.V.\, www.wbc-cologne.de\nV
 dU\, Verband der Unternehmerinnen in Deutschland\n\nAnsprechpartnerinnen:\
 nMartina Föhrenbach\,  Tel.: 0221 / 801478-44\, E-Mail: martina.foehrenb
 ach@fom.de\nSilja Barthes\, Tel.: 0221 / 801478-45\, E-Mail: silja.barthes
 @fom.de\n\nKosten / Anmeldung:\nDie Teilnahme an der Veranstaltung ist kos
 tenfrei.\nVeranstaltungsort:\nFOM Hochschule. Hochschulzentrum Köln\, Rhe
 inauhafen Süd\, Agrippinawerft 4\, 50678 Köln\, [map id=1049]
END:VEVENT
BEGIN:VTIMEZONE
TZID:Europe/Berlin
X-LIC-LOCATION:Europe/Berlin
BEGIN:DAYLIGHT
DTSTART:20220327T030000
TZOFFSETFROM:+0100
TZOFFSETTO:+0200
TZNAME:CEST
END:DAYLIGHT
END:VTIMEZONE
END:VCALENDAR