BEGIN:VCALENDAR
VERSION:2.0
PRODID:-//wp-events-plugin.com//7.2.3.1//EN
TZID:Europe/Berlin
X-WR-TIMEZONE:Europe/Berlin
BEGIN:VEVENT
UID:2457@frauenportal.koeln
DTSTART;TZID=Europe/Berlin:20191201T170000
DTEND;TZID=Europe/Berlin:20191201T190000
DTSTAMP:20191125T102302Z
URL:https://frauenportal.koeln/veranstaltungen/90-jahre-gedok-koeln-get-th
 e-point/
SUMMARY:Vernissage: 90 Jahre GEDOK KÖLN – Get the Point
DESCRIPTION:Jubiläumsausstellung der Fachbereiche Angewandte Kunst & Desig
 n und Bildende Kunst der GEDOK KÖLN e.V. vom 01.12. - 08.12.2019. \n\nVer
 nissage:\n01.12.2019\, 17.00 Uhr\nBegrüßung: Maria Wrede\, 1. Vorsitzend
 e GEDOK KÖLN \nEinführung: Dr. Susanne Spekat-Kolko \nJovita Zähl\, Kla
 vier \n\nÖffnungszeiten:\n2. – 4. Dez.: 15 - 18 Uhr\n5. - 7. Dez.: 15 -
  22 Uhr\n8. Dez.: 12 - 16 Uhr (15 Uhr Finissage)\n\nHier ist das Programm:
  GEDOK_Programm_90_2019 (pdf-Datei\, 721 KB)\n\nVeranstalterin:\nGEDOK Kö
 ln\n\nKontakt:\nGeschäftsstelle der GEDOK Köln\, Tel.: 0221 / 43 33 49\,
  E-Mail: gedokkoeln@t-online.de\n\nVeranstaltungsort:\nAltes Pfandhaus\, K
 artäuserwall 20\, 50678 Köln\, [map id=1014] 
END:VEVENT
BEGIN:VTIMEZONE
TZID:Europe/Berlin
X-LIC-LOCATION:Europe/Berlin
BEGIN:STANDARD
DTSTART:20191027T020000
TZOFFSETFROM:+0200
TZOFFSETTO:+0100
TZNAME:CET
END:STANDARD
END:VTIMEZONE
END:VCALENDAR