BEGIN:VCALENDAR
VERSION:2.0
PRODID:-//wp-events-plugin.com//7.2.3.1//EN
TZID:Europe/Berlin
X-WR-TIMEZONE:Europe/Berlin
BEGIN:VEVENT
UID:5463@frauenportal.koeln
DTSTART;TZID=Europe/Berlin:20250119T190000
DTEND;TZID=Europe/Berlin:20250119T213000
DTSTAMP:20241220T082716Z
URL:https://frauenportal.koeln/veranstaltungen/a-ceremony-of-carols-women-
 hope-and-life/
SUMMARY:„A Ceremony of Carols\, Women\, Hope and Life“
DESCRIPTION:Programm:\n\nBenjamin Britten: A Ceremony of Carols\, Op. 28\, 
 für Frauenchor und Harfe\nund\nweihnachtliche und weltliche Chorstücke f
 ür gleiche Stimmen von Komponistinnen\nsowie \nLichtinstallationen und Mo
 derationen\n\nMitwirkende:\n\nFrauenchor St. Kolumba\nProjektchor Brauweil
 er/Stommeln\nMädchenchor am Essener Dom\nVokalensemble HfMT\n\nSarah Gün
 newig | Harfe\nElisabeth Stollenwerk | Klarinette\nMin-Ga Seo | Klavier\n\
 nLichtinstallation | Kane Kampmann\nModeration | Hannah Otto\nZeitgenössi
 sche Texte u.a. von Patricia Falkenburg\n\nEmanuela Musso | Leitung\n\nHie
 r ist die Einladung: Masterprojekt_Chorkonzert_2025 (pdf-Datei\, 689 KB)\n
 \nVeranstalter*innen:\nu.a. Hochschule für Musik und Tanz Köln (www.hfmt
 -koeln.de)\, Frauenchor St. Kolumba\n\nAnsprechpartnerin:\nEmanuela Musso\
 , Tel.: 01522 / 4186916\, E-Mail: manumusso@live.it\n\nKosten / Anmeldung:
 \nEintritt frei\, Spenden erbeten
LOCATION:St. Ursula\, Ursulaplatz\, 50668 Köln
GEO:50.945652;6.95455
X-APPLE-STRUCTURED-LOCATION;VALUE=URI;X-ADDRESS=Ursulaplatz\, Köln\, Nordr
 hein-Westfalen\, 50668\, Veranstaltungsort\, Deutschland;X-APPLE-RADIUS=10
 0;X-TITLE=St. Ursula:geo:50.945652,6.95455
END:VEVENT
BEGIN:VTIMEZONE
TZID:Europe/Berlin
X-LIC-LOCATION:Europe/Berlin
BEGIN:STANDARD
DTSTART:20241027T020000
TZOFFSETFROM:+0200
TZOFFSETTO:+0100
TZNAME:CET
END:STANDARD
END:VTIMEZONE
END:VCALENDAR