BEGIN:VCALENDAR
VERSION:2.0
PRODID:-//wp-events-plugin.com//7.2.3.1//EN
TZID:Europe/Berlin
X-WR-TIMEZONE:Europe/Berlin
BEGIN:VEVENT
UID:972@frauenportal.koeln
DTSTART;TZID=Europe/Berlin:20180602T163000
DTEND;TZID=Europe/Berlin:20180602T180000
DTSTAMP:20180528T181346Z
URL:https://frauenportal.koeln/veranstaltungen/abschlussauffuehrung-clownb
 ildung-3/
SUMMARY:Abschlussaufführung ClownBildung
DESCRIPTION:Herzliche Einladung zur zur Abschlussaufführung der ClownBildu
 ngsgruppe Frühjahr 2017-2018! Die beteiligten Clowninnen wünschen ein er
 fülltes „Stündchen“. Alle großen und kleinen FreundInnen sind natü
 rlich herzlich willkommen.\n\nOrt: Bürgerzentrum "BÜZE Ehrenfeld"\, Venl
 oer Str. 429\, 50825 Köln\n\nBeginn: 16.30 Uhr\, Einlass 16.15 Uhr\n\nEin
 tritt: 5 Euro\, Kinder bis 10 Jahre frei.\n\nEine Reservierung ist nicht e
 rforderlich.\n\nWeitere Informationen: Denise May\, ClownsZeit - Die Clown
 sschule für Frauen
END:VEVENT
BEGIN:VTIMEZONE
TZID:Europe/Berlin
X-LIC-LOCATION:Europe/Berlin
BEGIN:DAYLIGHT
DTSTART:20180325T030000
TZOFFSETFROM:+0100
TZOFFSETTO:+0200
TZNAME:CEST
END:DAYLIGHT
END:VTIMEZONE
END:VCALENDAR