BEGIN:VCALENDAR
VERSION:2.0
PRODID:-//wp-events-plugin.com//7.2.3.1//EN
TZID:Europe/Berlin
X-WR-TIMEZONE:Europe/Berlin
BEGIN:VEVENT
UID:1350@frauenportal.koeln
DTSTART;TZID=Europe/Berlin:20181006T170000
DTEND;TZID=Europe/Berlin:20181006T190000
DTSTAMP:20180930T143214Z
URL:https://frauenportal.koeln/veranstaltungen/abschlussauffuehrung-clownb
 ildung-4/
SUMMARY:Abschlussaufführung ClownBildung
DESCRIPTION:Herzliche Einladung zur zur Abschlussaufführung\nder ClownBild
 ungsgruppe Herbst 2017-2018\nin das Bürgerzentrum "BÜZE Ehrenfeld"\, Ven
 loer Str. 429\, 50825 Köln\n\nBeginn: 17 Uhr\, Einlass 16.45 Uhr\, Eintri
 tt: 5 Euro\, Kinder bis 10 Jahre frei.\n\nDie beteiligten Clowninnen wüns
 chen ein erfülltes „Stündchen“!\n\nWeitere Informationen: Denise May
 \, ClownsZeit - Die Clownsschule für Frauen
END:VEVENT
BEGIN:VTIMEZONE
TZID:Europe/Berlin
X-LIC-LOCATION:Europe/Berlin
BEGIN:DAYLIGHT
DTSTART:20180325T030000
TZOFFSETFROM:+0100
TZOFFSETTO:+0200
TZNAME:CEST
END:DAYLIGHT
END:VTIMEZONE
END:VCALENDAR