BEGIN:VCALENDAR
VERSION:2.0
PRODID:-//wp-events-plugin.com//7.2.3.1//EN
TZID:Europe/Berlin
X-WR-TIMEZONE:Europe/Berlin
BEGIN:VEVENT
UID:2844@frauenportal.koeln
DTSTART;TZID=Europe/Berlin:20200927T170000
DTEND;TZID=Europe/Berlin:20200927T190000
DTSTAMP:20200923T065854Z
URL:https://frauenportal.koeln/veranstaltungen/abschlussauffuehrung-clownb
 ildung-5/
SUMMARY:Abschlussaufführung ClownBildung
DESCRIPTION:Herzliche Einladung zur zur Abschlussaufführung\nder ClownBild
 ungsgruppen Fühjahr und Herbst 2019-2020\nin das Bürgerzentrum "BÜZE Eh
 renfeld"\, Venloer Str. 429\, 50825 Köln\n\nBeginn: 17 Uhr\, Einlass 16.4
 5 Uhr\, Eintritt: 5 Euro\, Kinder bis 10 Jahre frei.\n\nDie beteiligten Cl
 owninnen wünschen ein erfülltes „Stündchen“!\n\nWeitere Information
 en: Denise May\, ClownsZeit - Die Clownsschule für Frauen
END:VEVENT
BEGIN:VTIMEZONE
TZID:Europe/Berlin
X-LIC-LOCATION:Europe/Berlin
BEGIN:DAYLIGHT
DTSTART:20200329T030000
TZOFFSETFROM:+0100
TZOFFSETTO:+0200
TZNAME:CEST
END:DAYLIGHT
END:VTIMEZONE
END:VCALENDAR