BEGIN:VCALENDAR
VERSION:2.0
PRODID:-//wp-events-plugin.com//7.2.3.1//EN
TZID:Europe/Berlin
X-WR-TIMEZONE:Europe/Berlin
BEGIN:VEVENT
UID:3357@frauenportal.koeln
DTSTART;TZID=Europe/Berlin:20211009T163000
DTEND;TZID=Europe/Berlin:20211009T194500
DTSTAMP:20210930T100208Z
URL:https://frauenportal.koeln/veranstaltungen/abschlussauffuehrung-clownb
 ildung-6/
SUMMARY:Abschlussaufführung ClownBildung und Auftritt 'die Zambalas'
DESCRIPTION:Herzliche Einladung zur Abschlussaufführung der einjährigen C
 lownbildungsguppe!\n\nDie Clowninnen spielen ihre Soli\nim Bürgerzentrum 
 Ehrenfeld\, Venloer Str. 429\, 50825 Köln\n\nBeginn: 16.30 Uhr\, Einlass 
 16.15 Uhr\, Dauer ca. 70 Minuten\nEintritt: 5 Euro\, Kinder bis 10 Jahre f
 rei.\n\nIm Anschluss\n\nzeigen "die Zambalas" - die Clownstheatergruppe de
 r ClownsZeit -\nAuszüge aus ihrem neuen Programm "Mikado"\n\nBeginn: 18.4
 5 Uhr\, Einlass 18.30 Uhr\, Dauer ca. 60 Minuten\nEintritt 10\,00 Euro (So
 nderpreis)\n\nWeitere Informationen: Denise May\, ClownsZeit - Die Clownss
 chule für Frauen
END:VEVENT
BEGIN:VTIMEZONE
TZID:Europe/Berlin
X-LIC-LOCATION:Europe/Berlin
BEGIN:DAYLIGHT
DTSTART:20210328T030000
TZOFFSETFROM:+0100
TZOFFSETTO:+0200
TZNAME:CEST
END:DAYLIGHT
END:VTIMEZONE
END:VCALENDAR