BEGIN:VCALENDAR
VERSION:2.0
PRODID:-//wp-events-plugin.com//7.2.3.1//EN
TZID:Europe/Berlin
X-WR-TIMEZONE:Europe/Berlin
BEGIN:VEVENT
UID:556@frauenportal.koeln
DTSTART;TZID=Europe/Berlin:20171014T170000
DTEND;TZID=Europe/Berlin:20171014T190000
DTSTAMP:20170929T100040Z
URL:https://frauenportal.koeln/veranstaltungen/abschlussauffuehrung-clownb
 ildung/
SUMMARY:Abschlussaufführung ClownBildung
DESCRIPTION:Herzliche Einladung zur zur Abschlussaufführungder ClownBildun
 gsgruppe Herbst 2016-2017in das Bürgerzentrum "BÜZE Ehrenfeld"\, Venloer
  Str. 429\, 50825 KölnBeginn: 17 Uhr\, Einlass 16.45 Uhr\, Eintritt: 5 Eu
 ro\, Kinder bis 10 Jahre frei.Die beteiligten Clowninnen wünschen ein erf
 ülltes „Stündchen“!Weitere Informationen: Denise May\, ClownsZeit - 
 Die Clownsschule für Frauen
END:VEVENT
BEGIN:VTIMEZONE
TZID:Europe/Berlin
X-LIC-LOCATION:Europe/Berlin
BEGIN:DAYLIGHT
DTSTART:20170326T030000
TZOFFSETFROM:+0100
TZOFFSETTO:+0200
TZNAME:CEST
END:DAYLIGHT
END:VTIMEZONE
END:VCALENDAR