BEGIN:VCALENDAR
VERSION:2.0
PRODID:-//wp-events-plugin.com//7.2.3.1//EN
TZID:Europe/Berlin
X-WR-TIMEZONE:Europe/Berlin
BEGIN:VEVENT
UID:2654@frauenportal.koeln
DTSTART;TZID=Europe/Berlin:20200312T200000
DTEND;TZID=Europe/Berlin:20200312T213000
DTSTAMP:20200228T103506Z
URL:https://frauenportal.koeln/veranstaltungen/aetherische-oele-fuer-die-g
 anze-familie/
SUMMARY:Ätherische Öle für die ganze Familie
DESCRIPTION:Ätherische Öle haben viel zu bieten\, denn sie wirken immer a
 uf körperlicher und emotionaler Ebene. Das ist besonders für Familien sp
 annend\, wenn sie ihre Gesundheit ganz natürlich und effektiv unterstütz
 en möchten. Um das Immunsystems zu stärken beispielsweise\, einen erhols
 amen Schlaf zu unterstützen oder um mit einfachen Mitteln schöne Wellnes
 s-Anwendungen zu gestalten.\n\nIn diesem Workshop wird gezeigt\, wie äthe
 rische Öle im Alltag von großem Nutzen sein können und wie vielfältig 
 sie bei Kindern und Erwachsenen einsetzbar sind.\n\nReferentin\nSimone Wan
 s\n\nVeranstalterin:\nKölner Geburtshaus e.V.\n\nAnsprechpartnerin:\nStef
 anie Lippelt\, Tel.: 02 21 / 72 44 48\, E-Mail: info@koelner-geburtshaus.d
 e\n\nKosten / Anmeldung:\n5 Euro pro Person.\n\nVeranstaltungsort:\nKölne
 r Geburtshaus\, Overbeckstr. 7\, 50823 Köln\, [map id=897]
END:VEVENT
BEGIN:VTIMEZONE
TZID:Europe/Berlin
X-LIC-LOCATION:Europe/Berlin
BEGIN:STANDARD
DTSTART:20191027T020000
TZOFFSETFROM:+0200
TZOFFSETTO:+0100
TZNAME:CET
END:STANDARD
END:VTIMEZONE
END:VCALENDAR