BEGIN:VCALENDAR
VERSION:2.0
PRODID:-//wp-events-plugin.com//7.2.3.1//EN
TZID:Europe/Berlin
X-WR-TIMEZONE:Europe/Berlin
BEGIN:VEVENT
UID:4437@frauenportal.koeln
DTSTART;TZID=Europe/Berlin:20231125T140000
DTEND;TZID=Europe/Berlin:20231125T170000
DTSTAMP:20241115T121531Z
URL:https://frauenportal.koeln/veranstaltungen/aktion-wann-setzt-du-ein-ze
 ichen-2/
SUMMARY:Aktion: "Wann setzt DU ein Zeichen?"
DESCRIPTION:Mit dem „Internationalen Tag gegen Gewalt an Frauen“ am 25.
  November starten die jährlichen „Orange Days“. Oberbürgermeisterin 
 Henriette Reker\, das Amt für Gleichstellung von Frauen und Männern der 
 Stadt Köln\, der Kölner Arbeitskreis „Gegen Gewalt an Frauen“ und di
 e fünf Kölner Frauen-Serviceclubs – die Kölner Soroptimist Internatio
 nal Clubs (SI Club Köln\, SI Club Köln-Kolumba und SI Club Köln-Römert
 urm) sowie die Kölner Zonta Clubs (Zonta Köln und Zonta Köln 2008) find
 en sich ab 14 Uhr am Kölner Bierbrunnen zusammen\, um mit ihren Aktionen 
 sichtbare Zeichen gegen Gewalt an Frauen zu setzen.\n\n133 orangefarbene S
 CHUHPAARE sind am Samstag symbolisch am Bierbrunnen auf der Schildergasse 
 zu sehen. Jedes Schuhpaar steht für eine Frau\, die im vergangenen Jahr i
 n Deutschland durch häusliche Gewalt ums Leben kam. Die Aktion „Wann se
 tzt Du ein Zeichen?“ findet dabei bewusst in der belebten Kölner Einkau
 fsstraße statt. Denn geschlechtsspezifische Gewalt geht uns alle an. Auch
  orangefarbene SITZBÄNKE\, die durch das Handwerkerinnenhaus Köln gebaut
  wurden\, sprechen es an und aus: KEIN PLATZ für Gewalt gegen Frauen …\
 , für sexuelle Belästigung …! Zudem werden Read-the-Signs-Statements z
 u den acht wichtigen Zeichen zur (Früh-)Erkennung von Gewalt an Frauen un
 d Mädchen von den Präsidentinnen der Frauenserviceclubs vorgetragen. Und
  dazu passend einige der weltweit bekanntesten Women-Empowerment-Songs der
  Geschichte\, von Martina Augl (Gesang) und Martin Thiedeke (Trompete) dar
 geboten\, ganz unter dem Zeichen: Frauen stärken mit der Musik.\n\nEin In
 fostand zum Thema „Gewalt gegen Frauen“ ist zudem vor Ort.\n\nVeransta
 lterin:\nArbeitskreis "Gegen Gewalt an Frauen"\, www.stadt-koeln.de/arbeit
 skreis-gegen-gewalt\nAktionsbündnis Orange Days Köln\, www.orangedays-ko
 eln.de
LOCATION:Bierbrunnen Schildergasse\, vor dem Kaufhaus\, 50667 Köln
GEO:50.936481;6.955122
X-APPLE-STRUCTURED-LOCATION;VALUE=URI;X-ADDRESS=vor dem Kaufhaus\, Köln\, 
 50667\, Veranstaltungsort\, Deutschland;X-APPLE-RADIUS=100;X-TITLE=Bierbru
 nnen Schildergasse:geo:50.936481,6.955122
END:VEVENT
BEGIN:VTIMEZONE
TZID:Europe/Berlin
X-LIC-LOCATION:Europe/Berlin
BEGIN:STANDARD
DTSTART:20231029T020000
TZOFFSETFROM:+0200
TZOFFSETTO:+0100
TZNAME:CET
END:STANDARD
END:VTIMEZONE
END:VCALENDAR