BEGIN:VCALENDAR
VERSION:2.0
PRODID:-//wp-events-plugin.com//7.2.3.1//EN
TZID:Europe/Berlin
X-WR-TIMEZONE:Europe/Berlin
BEGIN:VEVENT
UID:5248@frauenportal.koeln
DTSTART;TZID=Europe/Berlin:20241125T140000
DTEND;TZID=Europe/Berlin:20241125T170000
DTSTAMP:20241115T121128Z
URL:https://frauenportal.koeln/veranstaltungen/aktionsstand-am-internation
 alen-tag-gegen-gewalt-an-frauen/
SUMMARY:Aktionsstand am Internationalen Tag gegen Gewalt an Frauen
DESCRIPTION:Ein klares Zeichen gegen Gewalt und für den Schutz von Frauen 
 soll dieses Jahr am Severinskirchplatz gesetzt werden: 155 orangefarbene S
 chuhpaare stehen an diesem Tag symbolisch in der Kölner Südstadt. Jedes 
 Schuhpaar steht dabei für eine Frau\, die im vergangenen Jahr in Deutschl
 and durch häusliche Gewalt ums Leben kam.\n\nDer Aktionsstand bietet Raum
  für Aufklärung und Sensibilisierung. Außerdem stellen lokale Beratungs
 stellen ihre Hilfsangebote vor und informieren über Unterstützungsangebo
 te für Betroffene von geschlechtsspezifischer Gewalt. Ziel ist es\, ein B
 ewusstsein für die alltägliche Gewalt\, der Frauen weltweit ausgesetzt s
 ind\, zu schaffen und gleichzeitig Betroffenen den Weg zu Hilfs- und Unter
 stützungsangeboten zu erleichtern.\n\nVeranstalterin:\nAktionsbündnis Or
 ange Days Köln\, www.orangedays-koeln.de
LOCATION:Severinskirche\, Severinskirchplatz\, 50678 Köln
GEO:50.923326;6.959153
X-APPLE-STRUCTURED-LOCATION;VALUE=URI;X-ADDRESS=Severinskirchplatz\, Köln\
 , Nordrhein-Westfalen\, 50678\, Veranstaltungsort\, Deutschland;X-APPLE-RA
 DIUS=100;X-TITLE=Severinskirche:geo:50.923326,6.959153
END:VEVENT
BEGIN:VTIMEZONE
TZID:Europe/Berlin
X-LIC-LOCATION:Europe/Berlin
BEGIN:STANDARD
DTSTART:20241027T020000
TZOFFSETFROM:+0200
TZOFFSETTO:+0100
TZNAME:CET
END:STANDARD
END:VTIMEZONE
END:VCALENDAR