BEGIN:VCALENDAR
VERSION:2.0
PRODID:-//wp-events-plugin.com//7.2.3.1//EN
TZID:Europe/Berlin
X-WR-TIMEZONE:Europe/Berlin
BEGIN:VEVENT
UID:5818@frauenportal.koeln
DTSTART;TZID=Europe/Berlin:20251112T190000
DTEND;TZID=Europe/Berlin:20251112T200000
DTSTAMP:20251030T150916Z
URL:https://frauenportal.koeln/veranstaltungen/als-frau-in-der-politik/
SUMMARY:Als Frau in der Politik
DESCRIPTION:– Clubabend des KDFB DV Köln –\n\nAndrea Heidrich wird von
  ihren Erfahrungen und Herausforderungen in der Kommunalpolitik berichten.
 \n\nGleichzeitig kann besprochen werden\, wie der KDFB DV Köln im politis
 chen Raum wirksamer werden könnte.\n\nSeit 2013 ist Andrea Heidrich Mitgl
 ied der SPD und setzt sich für soziale Gerechtigkeit und gegen neoliberal
 e und rechte Tendenzen in der Gesellschaft ein. 2014 wurde sie Stadtverord
 nete in Troisdorf.\n\nIn der Arbeitsgemeinschaft sozialdemokratischer Frau
 en (AsF) Troisdorf war sie von 2013 bis 2019 Geschäftsführerin und ist s
 eit Januar 2020 die Vorsitzende. Seit Oktober 2023 hat sich die AsF in 'SP
 D-Frauen' umbenannt.\n\nVeranstalterin:\nKatholischer Deutscher Frauenbund
 \n\nKosten / Anmeldung:\nTeilnahme kostenfrei. Anmeldung unter: kontakt@fr
 auenbund-koeln.de\n\nVeranstaltungsort:\nonline
END:VEVENT
BEGIN:VTIMEZONE
TZID:Europe/Berlin
X-LIC-LOCATION:Europe/Berlin
BEGIN:STANDARD
DTSTART:20251026T020000
TZOFFSETFROM:+0200
TZOFFSETTO:+0100
TZNAME:CET
END:STANDARD
END:VTIMEZONE
END:VCALENDAR