BEGIN:VCALENDAR
VERSION:2.0
PRODID:-//wp-events-plugin.com//7.2.3.1//EN
TZID:Europe/Berlin
X-WR-TIMEZONE:Europe/Berlin
BEGIN:VEVENT
UID:4266@frauenportal.koeln
DTSTART;TZID=Europe/Berlin:20230322T190000
DTEND;TZID=Europe/Berlin:20230322T210000
DTSTAMP:20230331T114605Z
URL:https://frauenportal.koeln/veranstaltungen/als-frau-in-die-politik-wir
 -fragen-nach/
SUMMARY:Als Frau in die Politik - wir fragen nach
DESCRIPTION:Mehr Frauen in die Politik: Aber wie? Und worauf sollte man ach
 ten?\n\nEine Politikerin\, die es erlebt hat\, ist Anissa Saysay\, Parteic
 hefin der CDU Dormagen. Sie gibt Einblicke in ihre Reise durch die politis
 chen Gefilde und die damit verbunden Herausforderungen. Gleichzeitig könn
 en Herausforderungen aber auch Chancen sein und auch darüber wird Anissa 
 Saysay erzählen. Insbesondere immer aus der Sicht einer Frau. \n\nVeranst
 alterinnen:\nBPW Germany Club Köln\n\nAnsprechpartnerin:\nNyelete S. Gon
 çalves Chilenge\, E-Mail: bpw-koeln@web.de\n\nKosten /Anmeldung:\nMitglie
 der frei\, Interessentinnen 15 Euro.
LOCATION:Okandada • Köln City\, Hohenzollernring 16-18\, 50672 Köln
GEO:50.937474;6.939882
X-APPLE-STRUCTURED-LOCATION;VALUE=URI;X-ADDRESS=Hohenzollernring 16-18\, K
 öln\, 50672\, Veranstaltungsort\, Deutschland;X-APPLE-RADIUS=100;X-TITLE=
 Okandada • Köln City:geo:50.937474,6.939882
END:VEVENT
BEGIN:VTIMEZONE
TZID:Europe/Berlin
X-LIC-LOCATION:Europe/Berlin
BEGIN:STANDARD
DTSTART:20221030T020000
TZOFFSETFROM:+0200
TZOFFSETTO:+0100
TZNAME:CET
END:STANDARD
END:VTIMEZONE
END:VCALENDAR