BEGIN:VCALENDAR
VERSION:2.0
PRODID:-//wp-events-plugin.com//7.2.3.1//EN
TZID:Europe/Berlin
X-WR-TIMEZONE:Europe/Berlin
BEGIN:VEVENT
UID:4746@frauenportal.koeln
DTSTART;TZID=Europe/Berlin:20240417T190000
DTEND;TZID=Europe/Berlin:20240417T210000
DTSTAMP:20250627T103551Z
URL:https://frauenportal.koeln/veranstaltungen/altersbedingte-veraenderung
 -wie-gestalte-ich-wohnen/
SUMMARY:Altersbedingte Veränderung – Wie gestalte ich Wohnen?
DESCRIPTION:– BPW Köln Clubabend –\n\nDie Alterung unserer Gesellschaf
 t wird sichtbar und das Bild der „Neuen Alten“ bringt Veränderung. Di
 e „Best Ager“ oder „Silver Ager“ sind selbstbestimmter\, aktiver u
 nd auch im Wohnbereich braucht es Entwicklung und neue Ansätze.\n\nAn die
 sem Clubabend geht es mit Paula-Lucia Brüggen\, WohnCoach\, und Barbara v
 on der Mark\, Coach & Trainerin\, um gestalterische Möglichkeiten neuer W
 ohnformen und für ein selbstbestimmtes Leben im Alter.\n\nReferentinnen:\
 nPaula-Lucia Brüggen\, www.raumkoerper.de\nBarbara von der Mark\, www.von
 dermark-coaching.de\n\nVeranstalterinnen:\nBPW Germany Club Köln\n\nAnspr
 echpartnerin:\nNyelete S. Gonçalves Chilenge\, E-Mail: bpw-koeln@web.de\n
 \nKosten /Anmeldung:\nMitglieder frei\, Interessentinnen 15 Euro. Anmeldun
 g unter www.eventbrite.de/e/altersbedingte-veranderung-wie-gestaltet-sich-
 wohnen-tickets-854337896647?aff=oddtdtcreator
LOCATION:Startplatz Köln\, Im Mediapark 5\, 50670 Köln
GEO:50.94857939;6.94487198
X-APPLE-STRUCTURED-LOCATION;VALUE=URI;X-ADDRESS=Im Mediapark 5\, Köln\, 50
 670\, Veranstaltungsort\, Deutschland;X-APPLE-RADIUS=100;X-TITLE=Startplat
 z Köln:geo:50.94857939,6.94487198
END:VEVENT
BEGIN:VTIMEZONE
TZID:Europe/Berlin
X-LIC-LOCATION:Europe/Berlin
BEGIN:DAYLIGHT
DTSTART:20240331T030000
TZOFFSETFROM:+0100
TZOFFSETTO:+0200
TZNAME:CEST
END:DAYLIGHT
END:VTIMEZONE
END:VCALENDAR