BEGIN:VCALENDAR
VERSION:2.0
PRODID:-//wp-events-plugin.com//7.2.3.1//EN
TZID:Europe/Berlin
X-WR-TIMEZONE:Europe/Berlin
BEGIN:VEVENT
UID:1890@frauenportal.koeln
DTSTART;TZID=Europe/Berlin:20190416T190000
DTEND;TZID=Europe/Berlin:20190416T210000
DTSTAMP:20190329T143437Z
URL:https://frauenportal.koeln/veranstaltungen/angst-stopp-techniken-nlp-i
 nfo-workshop/
SUMMARY:Angst-Stopp-Techniken – NLP-Info-Workshop
DESCRIPTION:Jenison Thomkins zu ihrem Angebot:\n\n"Mit deinen Ängsten umge
 hen\n\nÄngste blockieren uns und machen uns handlungsunfähig. Eigentlich
  ein gutes Warnsignal unseres Unbewussten\, aber schlecht\, nicht wenn´s 
 gar nichts zum Fürchten gibt\, so wie bei Flugangst\, Platzangst\, Mit ei
 nfachen Angst-Stopp-Techniken kannst du lernen\, die Kontrolle über deine
  Gefühle wieder zu übernehmen\, dir zu vertrauen und dich zu entspannen!
 \n\nKostenloser Info Workshop zu allen Veranstaltungen im Atelier!\n\nFür
  alle Practitioner-\, Master- und 4D-Typologie-Interessierten ist dieser A
 bend eine gute Gelegenheit\, sich über meine Arbeit und alle anderen Frag
 en bezüglich der Ausbildungen und Bildungsurlaube der kommenden Zeit  zu 
 informieren!\n\nWas geschieht beim NLP-Info-Workshop?\n\n 	Ankommen\, Kaff
 ee und Tee trinken\n 	Trainer\, Assistent-Innen und andere nette Menschen 
 kennenlernen\n 	theoretische Einführung ins NLP-Thema\n 	Praktische Übun
 g mit persönlichem Feedback\n 	allgemeine Infos zu NLP und den aktuellen 
 Ausbildungen und Workshops im Atelier für NLP&amp\;Persönlichkeitsentwic
 klung\n\nDu bist an diesem Abend verhindert\, möchtest dich aber über da
 s Jahresprogramm informieren? Gern lade ich dich zu allen weiteren Info-Wo
 rkshops ein\, und bring deine Freunde/Partner/Familie mit!"\n\nMehr Infos 
 und Anmeldung bei: Jenison Thomkins
END:VEVENT
BEGIN:VTIMEZONE
TZID:Europe/Berlin
X-LIC-LOCATION:Europe/Berlin
BEGIN:DAYLIGHT
DTSTART:20190331T030000
TZOFFSETFROM:+0100
TZOFFSETTO:+0200
TZNAME:CEST
END:DAYLIGHT
END:VTIMEZONE
END:VCALENDAR