BEGIN:VCALENDAR
VERSION:2.0
PRODID:-//wp-events-plugin.com//7.2.3.1//EN
TZID:Europe/Berlin
X-WR-TIMEZONE:Europe/Berlin
BEGIN:VEVENT
UID:2453@frauenportal.koeln
DTSTART;TZID=Europe/Berlin:20191120T170000
DTEND;TZID=Europe/Berlin:20191120T200000
DTSTAMP:20191105T112137Z
URL:https://frauenportal.koeln/veranstaltungen/anne-dellgruen-werfen-sie-e
 inen-blick-hinter-die-kulissen/
SUMMARY:Anne Dellgrün: „Werfen Sie einen Blick hinter die Kulissen“
DESCRIPTION:Seit Mitte des Jahres in neuen Räumlichkeiten in der Kölner S
 üdstadt\, lädt Anne Dellgrün zu einem „Blick hinter die Kulissen“ m
 it kulinarischen Kleinigkeiten und einem kleinen Input ein!\n\nWas Sie erw
 artet:\nFür was brenne ich? • Aufgabenbereiche\nInput: • Der Demenz-R
 atgeber\nNetzwerken innerhalb von Köln • Themen\, die wir voranbringen 
 möchten\nKulinarische Kleinigkeiten\n\nHier ist die Einladung: Dellgrün-
 Beratung_Einladung_2019 (pdf-Datei\, 580 KB)\n\nUm Anmeldung wird gebeten 
 bis 10.11. an: info@anne-dellgruen.de\n
END:VEVENT
BEGIN:VTIMEZONE
TZID:Europe/Berlin
X-LIC-LOCATION:Europe/Berlin
BEGIN:STANDARD
DTSTART:20191027T020000
TZOFFSETFROM:+0200
TZOFFSETTO:+0100
TZNAME:CET
END:STANDARD
END:VTIMEZONE
END:VCALENDAR