BEGIN:VCALENDAR
VERSION:2.0
PRODID:-//wp-events-plugin.com//7.2.3.1//EN
TZID:Europe/Berlin
X-WR-TIMEZONE:Europe/Berlin
BEGIN:VEVENT
UID:3898@frauenportal.koeln
DTSTART;TZID=Europe/Berlin:20221008T110000
DTEND;TZID=Europe/Berlin:20221008T163000
DTSTAMP:20220930T125956Z
URL:https://frauenportal.koeln/veranstaltungen/annemarie-schimmel-1922-200
 3/
SUMMARY:Annemarie Schimmel\, 1922-2003
DESCRIPTION:„Meine Hauptaufgabe sehe ich im Brückenschlagen zwischen den
  Welten.“\n\nDas Oevre dieser Orientalistin von Weltrang\, Annemarie Sch
 immel\, ist eine Brücke vom Morgenland zum Abendland. Sie versuchte nicht
  nur der Fachwelt\, sondern ebenso einer breiten Öffentlichkeit die Vielf
 alt der weltweiten islamischen Kultur nahezubringen. Ihr Lebenswerk gilt d
 er Kenntnis und dem Verständnis des Islam\, seinem inneren Leben und sein
 er kulturgenerierenden Begegnung mit dem Okzident. Die Auszeichnung mit de
 m Friedenspreis des Deutschen Buchhandels 1995 gilt als ein Zeichen für d
 ie Begegnung der Kulturen\, für Respekt\, Poesie und Denkkultur\, welche 
 die Formen des Andersseins achtet. Sie sah sich als Anwältin des innerkul
 turellen Dialogs. Sie gilt als ein „Genie der Vermittlung“ und eine 
 „Grenzgängerin aus Passion“. \n\nReferentin:\nDr. Hortense Reintjens-
 Anwari\, Profil:\nDr. phil. Dipl. theol.\, Studium der Geschichte und Kult
 uranthropologie (Fokus: Vorderer und Mittlerer Orient) und Theologie (Foku
 s: Philosophische Anthropologie). Langjährige Lehrtätigkeit an der Unive
 rsität zu Köln. Zur Zeit Forschung und Seminare auf dem Gebiet der inter
 kulturellen Philosophie und Spiritualität.\n\nVeranstalterin:\nBeginen K
 öln e.V.\n\nAnsprechpartnerin:\nChristine Müthrath\, Tel.: 0221 / 965582
 0\, E-Mail: info@beginen.de\n\nKosten:\nAnmeldung erforderlich. Kostenbeit
 rag auf Spendenbasis.\n\nVeranstaltungsort:\nBeginentreff im Beginenhof K
 öln\, Unter Linden 119\, 50859 Köln\, [map id=1048]
END:VEVENT
BEGIN:VTIMEZONE
TZID:Europe/Berlin
X-LIC-LOCATION:Europe/Berlin
BEGIN:DAYLIGHT
DTSTART:20220327T030000
TZOFFSETFROM:+0100
TZOFFSETTO:+0200
TZNAME:CEST
END:DAYLIGHT
END:VTIMEZONE
END:VCALENDAR