BEGIN:VCALENDAR
VERSION:2.0
PRODID:-//wp-events-plugin.com//7.2.3.1//EN
TZID:Europe/Berlin
X-WR-TIMEZONE:Europe/Berlin
BEGIN:VEVENT
UID:2619@frauenportal.koeln
DTSTART;TZID=Europe/Berlin:20200211T193000
DTEND;TZID=Europe/Berlin:20200211T214500
DTSTAMP:20200228T110110Z
URL:https://frauenportal.koeln/veranstaltungen/arent-i-a-woman-honoring-bl
 ack-women/
SUMMARY:Aren't I a Woman: Honoring Black Women
DESCRIPTION:Rahab Njeri: "Black women have made huge contributions to socie
 ty in all the fields.  But in the past these contributions have often bee
 n ignored or played down because they are women. I would like to celebrate
  and honor Black women such as Harriet Tubman*\, Winnie Mandela\, Wangari 
 Mathaai** and all the other Black women\, whose names  are known and unkn
 own for thier resistance and resilience."\n\nThe lecture will be in Englis
 h and German.\nRahab Njeri can always explain in German if someone does no
 t understand.\n\nDer Vortrag findet in Englisch statt.\n\n*) Harriet Tubma
 n spielte eine außergewöhnliche Rolle während des Abolitismus (Bewegung
  zur Abschaffung der Sklaverei). Nachdem sie im Jahr 1849 selbst erfolgrei
 ch der Sklaverei entflohen war\, kehrte sie unter dem Codenamen Moses mehr
 fach in die Südstaaten zurück\, um anderen SklavInnen auf ihrer Flucht b
 ehilflich zu sein. Im Sezessionskrieg arbeitete sie neben ihrer Tätigkeit
  als Krankenschwester und Köchin als Kundschafterin für die Nordstaaten.
  In ihren späteren Lebensjahren engagierte sie sich in der Frauenbewegung
 .\n\n**) Wangarĩ Muta Maathai ist eine kenianische Aktivistin in der Sozi
 al- und Umweltbewegung und politische Aktivistin. Sie erhielt 2004 als ers
 te afrikanische Frau den Friedensnobelpreis.\n\nRahab Njeri hat an der Uni
  zu Köln studiert und ist PhD an der Universität Trier.\n\nDer Vortrag f
 indet im Black History Month statt.\n\nVeranstalterin:\nFriedensbildungswe
 rk Köln (www.friedensbildungswerk.de)\nin Kooperation mit dem Kölner Fra
 uengeschichtsverein e.V.\n\nKontakt:\nTel.: 0221 / 24 82 65\, E-Mail: info
 @frauengeschichtsverein.de\n\nKosten / Anmeldung:\nEintritt frei\, Spenden
  erbeten\n\nVeranstaltungsort:\nFriedensbildungswerk\, Obenmarspforten 7-1
 1\, 50667 Köln\, [map id=1086]
END:VEVENT
BEGIN:VTIMEZONE
TZID:Europe/Berlin
X-LIC-LOCATION:Europe/Berlin
BEGIN:STANDARD
DTSTART:20191027T020000
TZOFFSETFROM:+0200
TZOFFSETTO:+0100
TZNAME:CET
END:STANDARD
END:VTIMEZONE
END:VCALENDAR