BEGIN:VCALENDAR
VERSION:2.0
PRODID:-//wp-events-plugin.com//7.2.3.1//EN
TZID:Europe/Berlin
X-WR-TIMEZONE:Europe/Berlin
BEGIN:VEVENT
UID:4675@frauenportal.koeln
DTSTART;TZID=Europe/Berlin:20240214T100000
DTEND;TZID=Europe/Berlin:20240214T170000
DTSTAMP:20240118T104943Z
URL:https://frauenportal.koeln/veranstaltungen/aschermittwoch-der-kfd-in-k
 oeln/
SUMMARY:Aschermittwoch der kfd in Köln
DESCRIPTION:„Ich danke dir\, dass ich so staunenswert und wunderbar gesta
 ltet bin.“ (Ps 139\,14)\n\nDie kfd in Köln lädt ein zu einer gemeinsch
 aftlichen und persönlichen spirituellen Entdeckungsreise:  Wie kann ich d
 ie Königin in mir entdecken?\n\nDas Kölner Team: Julia Brümmer\, Charlo
 tte Karr und Brigitte Schmidt möchte mit den Teilnehmerinnen auf Spurensu
 che im Alltag gehen. Die Angebote: kreative Bibelarbeit\, Körperübungen\
 , Beschäftigung mit den Lebensfarben\, Spiegelmeditation. In der Mittagsz
 eit gibt es die Möglichkeit zur meditativen Atempause und zum Rundgang du
 rch den Garten der Religionen.\n\nVeranstalterin:\nKatholische Frauengemei
 nschaft Deutschlands (kfd) im Erzbistum Köln\n\nAnsprechpartnerin:\nAndr
 ea Monschau\, Tel.: 0221 / 1642-1545\, E-Mail: info@kfd-koeln.de \n\nKoste
 n / Anmeldung:\n35 € für Interessierte\, 28 € für kfd-Mitglieder\nUm
  Anmeldung wird gebeten bei: Andrea Monschau\, E-Mail: info@kfd-koeln.de
LOCATION:IN VIA\, Stolzestr. 1a\, 50674 Köln
GEO:50.925185;6.939712
X-APPLE-STRUCTURED-LOCATION;VALUE=URI;X-ADDRESS=Stolzestr. 1a\, Köln\, 506
 74\, Frauenorganisation\, Deutschland;X-APPLE-RADIUS=100;X-TITLE=IN VIA:ge
 o:50.925185,6.939712
END:VEVENT
BEGIN:VTIMEZONE
TZID:Europe/Berlin
X-LIC-LOCATION:Europe/Berlin
BEGIN:STANDARD
DTSTART:20231029T020000
TZOFFSETFROM:+0200
TZOFFSETTO:+0100
TZNAME:CET
END:STANDARD
END:VTIMEZONE
END:VCALENDAR