BEGIN:VCALENDAR
VERSION:2.0
PRODID:-//wp-events-plugin.com//7.2.3.1//EN
TZID:Europe/Berlin
X-WR-TIMEZONE:Europe/Berlin
BEGIN:VEVENT
UID:2090@frauenportal.koeln
DTSTART;TZID=Europe/Berlin;VALUE=DATE:20190902
DTEND;TZID=Europe/Berlin;VALUE=DATE:20190903
DTSTAMP:20200122T131900Z
URL:https://frauenportal.koeln/veranstaltungen/assata-im-hof-veranstaltung
 en-gegen-die-raeumung/
SUMMARY:ASSATA im Hof - Veranstaltungen gegen die Räumung
DESCRIPTION:-2. bis 28. September 2019 -\n\nMit einem bunten Programm geht 
 das feministische Kollektiv gegen die drohende Räumung an\, darunter Film
 vorführungen\, Diskussionen und Workshops.\n\nHier ist das Programm: assa
 ta_programm_sept_2019 (pdf-Datei\, 62 KB)\n\nVeranstalterin:\nASSATA im Ho
 f\, www.facebook.com/AssataHof\n\nKosten / Anmeldung:\nAlle Veranstaltunge
 n offen entweder für FLINT* (Frauen\, Lesben\, inter\, non-binary und tra
 ns* Personen) oder FLINT* of Color.\n\nVeranstaltungsort:\nASSATA im Hof\,
  Kartäuser Wall 18\, 50678 Köln\, [map id=14704] 
END:VEVENT
BEGIN:VTIMEZONE
TZID:Europe/Berlin
X-LIC-LOCATION:Europe/Berlin
BEGIN:DAYLIGHT
DTSTART:20190331T030000
TZOFFSETFROM:+0100
TZOFFSETTO:+0200
TZNAME:CEST
END:DAYLIGHT
END:VTIMEZONE
END:VCALENDAR