BEGIN:VCALENDAR
VERSION:2.0
PRODID:-//wp-events-plugin.com//7.2.3.1//EN
TZID:Europe/Berlin
X-WR-TIMEZONE:Europe/Berlin
BEGIN:VEVENT
UID:4532@frauenportal.koeln
DTSTART;TZID=Europe/Berlin:20240504T140000
DTEND;TZID=Europe/Berlin:20240504T160000
DTSTAMP:20251203T084009Z
URL:https://frauenportal.koeln/veranstaltungen/auftaktveranstaltung-femini
 stische-buecherwoche/
SUMMARY:Auftaktveranstaltung Feministische Bücherwoche
DESCRIPTION:Nach einem Vortrag zur Entdeckung und Bewahrung von Frauengesch
 ichte geht es in einer Führung vom mittelalterlichen Gewölbe bis aufs Da
 ch des feministischen Archivs. Es referiert die wissenschaftliche Leiterin
  Berit Schallner.\n\nFeministische Buchwoche vom 4. bis 12. Mai 2024\n\nDi
 e Pilotstudie "Frauen zählen"\, die von den BücherFrauen mitinitiiert wu
 rde\, kam zu dem Fazit: "Männliche Namen dominieren den literarischen Rez
 ensionsbetrieb. Zwei Drittel aller Rezensionen würdigen die Werke von Aut
 oren. Vor allem die als intellektuell oder als „maskulin“ empfundenen 
 Genres wie Sachbuch und Kriminalliteratur werden von Autoren wie Kritikern
  vereinnahmt."\n\nUm dem etwas entgegenzusetzen und Autorinnen sichtbarer 
 zu machen\, starteten die BücherFrauen vom 6. bis 14. Mai 2023 erstmals e
 ine bundesweite Feministische Buchwoche. Mit 48 Veranstaltungen wurde dies
 e Premiere ein großer Erfolg. Folgerichtig fiel die Entscheidung\, mit de
 m Veranstaltungskonzept in Serie zu gehen. Die zweite Ausgabe findet vom 4
 . bis zum 12. Mai 2024 statt mit Buch- und Verlagsvorstellungen\, Lesungen
 \, Diskussionsrunden und vieles mehr!\n\nVeranstalterinnen:\nBücherFrauen
  e. V.\, www.buecherfrauen.de\nFrauenMediaTurm\nAnsprechpartnerin:\nBerit 
 Schallner\, Tel.: 0221/931 881-0 (10-17 Uhr)\, E-Mail:\ninfo@frauenmediatu
 rm.de\n
LOCATION:FrauenMediaTurm / Bayenturm\, Am Bayenturm 2\, 50678 Köln
GEO:50.923743;6.96701
X-APPLE-STRUCTURED-LOCATION;VALUE=URI;X-ADDRESS=Am Bayenturm 2\, Köln\, No
 rdrhein-Westfalen\, 50678\, Veranstaltungsort\, Deutschland;X-APPLE-RADIUS
 =100;X-TITLE=FrauenMediaTurm / Bayenturm:geo:50.923743,6.96701
END:VEVENT
BEGIN:VTIMEZONE
TZID:Europe/Berlin
X-LIC-LOCATION:Europe/Berlin
BEGIN:DAYLIGHT
DTSTART:20240331T030000
TZOFFSETFROM:+0100
TZOFFSETTO:+0200
TZNAME:CEST
END:DAYLIGHT
END:VTIMEZONE
END:VCALENDAR