BEGIN:VCALENDAR
VERSION:2.0
PRODID:-//wp-events-plugin.com//7.2.3.1//EN
TZID:Europe/Berlin
X-WR-TIMEZONE:Europe/Berlin
BEGIN:VEVENT
UID:2808@frauenportal.koeln
DTSTART;TZID=Europe/Berlin:20200918T093000
DTEND;TZID=Europe/Berlin:20200918T170000
DTSTAMP:20200730T124128Z
URL:https://frauenportal.koeln/veranstaltungen/ausstieg-aus-organisierter-
 ritueller-gewalt-organisierte-rituelle-gewalt-erkennen-und-verstehen/
SUMMARY:Ausstieg aus organisierter ritueller Gewalt – organisierte rituel
 le Gewalt erkennen und verstehen
DESCRIPTION:- Tagesseminar –\n\nMenschen\, die organisierte\, rituelle Ge
 walt erlebt haben\, sind meist schon von Geburt oder frühester Kindheit a
 n der Verfügungsgewalt von Kulten und ähnlichen Gruppierungen ausgesetzt
 . Sie werden oft Jahrzehnte lang gequält\, misshandelt\, gefoltert und se
 xuell missbraucht. Funktionalität\, absoluter Gehorsam und totale Geheimh
 altung werden durch frühzeitige Trainingsprogramme erzwungen. Oft wird sc
 hon von Geburt an gezielt eine Dissoziative Identitätsstruktur (DIS) mit 
 voneinander abgespaltenen Persönlichkeitsanteilen erzeugt. Dadurch ersche
 int den Betroffenen der Ausstieg und die Vorstellung eines Lebens außerha
 lb des Kultes verboten und vollkommen unmöglich. \n\nWie sehen die Strukt
 uren eines Kultes aus? Was heißt es\, in einen Kult hineingeboren zu sein
 ? Was bedeutet rituelle Gewalt? Wie ist der Weg zu sog. Kinderpornografie\
 , Prostitution etc.? Was heißt es\, auszusteigen – woraus\, warum und w
 ie? Wie entsteht eine DIS und was bedeutet das für den Alltag dieser Mens
 chen? Was wünschen sich Überlebende von Helfer*innen? Welche Wege und Ir
 rwege gibt es in Therapie\, Beratung und Begleitung von Betroffenen? \n\nI
 m Seminar ist zu erfahren\, dass ein Ausstieg aus diesen Gruppierungen und
  ein lebenswertes Leben außerhalb des Kultes durchaus möglich sind. Ber
 ührungsängste sollen abgebaut und die Teilnehmenden sollen dazu ermutigt
  werden\, diese Menschen zu unterstützen und zu begleiten. Die Referentin
  wird von eigenen Erfahrungen und denen anderer Überlebender berichten.\n
 \nReferentin:\nSabine Weber\, Trauma Hilfe Zentrum München e.V.\, www.thz
 m.de\n\nHier ist die Einladung: Tagesseminar Notruf 18.09.2020 (pdf-Datei\
 , 752 KB)\n\nVeranstalterin:\nNotruf Köln - Notruf und Beratung für verg
 ewaltigte Frauen - Frauen gegen Gewalt e.V\n\nAnsprechpartnerin:\nIrmgard 
 Kopetzky\, Tel.: 0221 / 56 20 35\, E-Mail: mailbox@notruf-koeln.de\n\nKost
 en / Anmeldung:\nDas Seminar richtet sich an Mitarbeiter*innen von Beratun
 gsstellen\, Psychiatrie-Einrichtungen und ambulant / stationär betreutem 
 Wohnen\, Pflegekräfte\, Ärzt*innen\, Therapeut*innen\, Rechtsanwält*inn
 en und andere Menschen\, die im Rahmen ihrer beruflichen Tätigkeit Überl
 ebende von organisierter ritueller Gewalt unterstützen.\nKinderbetreuung 
 kann bei Bedarf organisiert werden – bitte rechtzeitig melden!\nKosten: 
 75 € (inkl. Getränke)\nTN-Anzahl: max. 30 Personen\, Anmeldung erforder
 lich.\n\nVeranstaltungsort:\nChristuskirche\, Dorothee-Sölle-Platz 1\, 50
 672 Köln\, [map id=12869]
END:VEVENT
BEGIN:VTIMEZONE
TZID:Europe/Berlin
X-LIC-LOCATION:Europe/Berlin
BEGIN:DAYLIGHT
DTSTART:20200329T030000
TZOFFSETFROM:+0100
TZOFFSETTO:+0200
TZNAME:CEST
END:DAYLIGHT
END:VTIMEZONE
END:VCALENDAR