BEGIN:VCALENDAR
VERSION:2.0
PRODID:-//wp-events-plugin.com//7.2.3.1//EN
TZID:Europe/Berlin
X-WR-TIMEZONE:Europe/Berlin
BEGIN:VEVENT
UID:1996@frauenportal.koeln
DTSTART;TZID=Europe/Berlin:20190724T193000
DTEND;TZID=Europe/Berlin:20190724T220000
DTSTAMP:20190703T064437Z
URL:https://frauenportal.koeln/veranstaltungen/b-f-b-m-mentoring/
SUMMARY:B.F.B.M.: Mentoring
DESCRIPTION:Aufgrund der Branchenvielfalt sind beim B.F.B.M. ein enormer Er
 fahrungsschatz und umfassendes Fachwissen vorhanden. Diese "Schätze" soll
 en vor allem für jüngere Frauen und Existenzgründerinnen nutzbar gemach
 t werden. Die Mentorinnen stellen sich und ihre Themen bei der Veranstaltu
 ng vor. Anschließend werden zu den einzelnen Themen kleine Gruppen gebild
 et und es wird direkt ins Mentoring eingestiegen. Für Interessentinnen\, 
 die auf der Suche nach einem passenden Netzwerk sind\, ist diese Veranstal
 tung eine gute Gelegenheit\, den B.F.B.M. kennenzulernen.\n\nReferentin:\n
 Astrid Windfuhr\, Kommunikations- und Stilberatung\n\nVeranstalterin:\nBun
 desverband der Frau in Business und Management e.V.\n\nAnsprechpartnerin:\
 nMaxi-Karine Stamer\, Tel.: 02204 / 9501-0\n\nKosten / Anmeldung:\nKostenb
 eitrag für Gäste: 17 Euro.\n\nVeranstaltungsort:\nHinterhofsalon\, Aache
 ner Str. 68\, 50674 Köln\, [map id=12652]
END:VEVENT
BEGIN:VTIMEZONE
TZID:Europe/Berlin
X-LIC-LOCATION:Europe/Berlin
BEGIN:DAYLIGHT
DTSTART:20190331T030000
TZOFFSETFROM:+0100
TZOFFSETTO:+0200
TZNAME:CEST
END:DAYLIGHT
END:VTIMEZONE
END:VCALENDAR