BEGIN:VCALENDAR
VERSION:2.0
PRODID:-//wp-events-plugin.com//7.2.3.1//EN
TZID:Europe/Berlin
X-WR-TIMEZONE:Europe/Berlin
BEGIN:VEVENT
UID:3840@frauenportal.koeln
DTSTART;TZID=Europe/Berlin:20220824T193000
DTEND;TZID=Europe/Berlin:20220824T220000
DTSTAMP:20230515T080943Z
URL:https://frauenportal.koeln/veranstaltungen/b-f-b-m-sommertreffen/
SUMMARY:B.F.B.M.-Sommertreffen
DESCRIPTION:Wie geht es? Ein Treffen der Kölner B.F.B.M.-Gruppe zu einem A
 ustausch und Update in lockerer Runde auf der Terrasse des Lokals im Museu
 m Ludwig. Bei schlechtem Wetter kann auch innen gesessen werden. Auf jeden
  Fall ist die Freude groß auf ein Wiedersehen nach der Sommerpause! \n\nV
 eranstalterin:\nBundesverband der Frau in Business und Management e.V.\n\n
 Ansprechpartnerin:\nAstrid Windfuhr\, Tel.: 0221 / 732 63 53\n\nVeranstalt
 ungsort:\nLudwig im Museum\, Heinrich-Böll-Platz\, 50667 Köln\, [map id=
 11795]
END:VEVENT
BEGIN:VTIMEZONE
TZID:Europe/Berlin
X-LIC-LOCATION:Europe/Berlin
BEGIN:DAYLIGHT
DTSTART:20220327T030000
TZOFFSETFROM:+0100
TZOFFSETTO:+0200
TZNAME:CEST
END:DAYLIGHT
END:VTIMEZONE
END:VCALENDAR