BEGIN:VCALENDAR
VERSION:2.0
PRODID:-//wp-events-plugin.com//7.2.3.1//EN
TZID:Europe/Berlin
X-WR-TIMEZONE:Europe/Berlin
BEGIN:VEVENT
UID:1640@frauenportal.koeln
DTSTART;TZID=Europe/Berlin:20181212T190000
DTEND;TZID=Europe/Berlin:20181212T213000
DTSTAMP:20181130T143125Z
URL:https://frauenportal.koeln/veranstaltungen/b-f-b-m-weihnachtstreffen-2
 /
SUMMARY:B.F.B.M. - Weihnachtstreffen
DESCRIPTION:Aus der Einladung:\n\n"Wir sind zu Gast im Atelier der Mode-Unt
 ernehmerin Sabine Berndt. Sie entwirft und produziert Röcke\, Oberteile u
 nd Kleider. Sie wird uns ihr Konzept und ihre Arbeitsweise vorstellen und 
 uns erzählen\, wie ihre Geschäftsidee entstanden ist und sich weiterentw
 ickelt hat. Anschließend haben wir Gelegenheit\, uns in ihren beiden nah 
 beieinander liegenden Ladenlokalen umzuschauen - und natürlich auch zu sh
 oppen. \n\nIm benachbarten Lokal Baden-Baden lassen wir den vorweihnachtli
 chen Genuss-Abend dann bei Wein und leckeren Kleinigkeiten ausklingen."\n\
 nVeranstalterin:\nBundesverband der Frau in Business und Management e.V.\n
 \nAnsprechpartnerin:\nMaxi-Karine Stamer\, Tel.: 02204 / 9501-0\n\nVeranst
 altungsort:\nrock-it-baby!\, Philippstr. 23\, 50823 Köln
END:VEVENT
BEGIN:VTIMEZONE
TZID:Europe/Berlin
X-LIC-LOCATION:Europe/Berlin
BEGIN:STANDARD
DTSTART:20181028T020000
TZOFFSETFROM:+0200
TZOFFSETTO:+0100
TZNAME:CET
END:STANDARD
END:VTIMEZONE
END:VCALENDAR