BEGIN:VCALENDAR
VERSION:2.0
PRODID:-//wp-events-plugin.com//7.2.3.1//EN
TZID:Europe/Berlin
X-WR-TIMEZONE:Europe/Berlin
BEGIN:VEVENT
UID:3947@frauenportal.koeln
DTSTART;TZID=Europe/Berlin:20221119T110000
DTEND;TZID=Europe/Berlin:20221119T130000
DTSTAMP:20221116T084546Z
URL:https://frauenportal.koeln/veranstaltungen/baem-stammtisch/
SUMMARY:BÄM! Stammtisch
DESCRIPTION:Aus der Einladung:\n"Ihr Lieben! \n \nEs ist wieder so weit\, z
 um Anlass der ART COLOGNE haben wir uns ein besonderes Programm überlegt.
  Wir freuen uns\, euch den Stammtisch im November als Studio Visit ankünd
 igen zu können: In Kooperation mit Ruth Weigand wird er in ihrem Atelier 
 im Kunstwerk Köln stattfinden. Ruth Weigand wird in ihre Arbeiten einfüh
 ren und im Anschluss laden wir zu Croissants und Café ein."\n\nVeranstalt
 erin:\nAnd She Was Like: BÄM!\n\nAnsprechpartnerin:\nLisa Pommerenke\, E-
 Mail: lisa.p@andshewaslikebam.de\n\nAnmeldung:\nFLINTA* only! Um verbindli
 che Anmeldung wird gebeten bis 16.11.2022 unter events@andshewaslikebam.de
 \n\nVeranstaltungsort:\nKunstWerk e.V.\, Deutz-Mülheimer Str. 115\, 51063
  Köln \, [map id=17946]
END:VEVENT
BEGIN:VTIMEZONE
TZID:Europe/Berlin
X-LIC-LOCATION:Europe/Berlin
BEGIN:STANDARD
DTSTART:20221030T020000
TZOFFSETFROM:+0200
TZOFFSETTO:+0100
TZNAME:CET
END:STANDARD
END:VTIMEZONE
END:VCALENDAR