BEGIN:VCALENDAR
VERSION:2.0
PRODID:-//wp-events-plugin.com//7.2.3.1//EN
TZID:Europe/Berlin
X-WR-TIMEZONE:Europe/Berlin
BEGIN:VEVENT
UID:2603@frauenportal.koeln
DTSTART;TZID=Europe/Berlin:20200119T130000
DTEND;TZID=Europe/Berlin:20200119T180000
DTSTAMP:20200114T112939Z
URL:https://frauenportal.koeln/veranstaltungen/baem-talk-8-transcorporeali
 ties-workshops-zu-antirassistischen-praktiken-im-museum/
SUMMARY:BÄM! Talk #8 @Transcorporealities – Workshops zu antirassistisch
 en Praktiken im Museum
DESCRIPTION:Programm:\n13.00–14.00 Uhr: Begrüßung und Inputs\n14.00–1
 7.00 Uhr: Workshops\n17.00–18.00 Uhr: Get-Together / Informeller Austaus
 ch und Abschluss\n\nWORKSHOP 1\nErkundungen des [ ] Körpers – Intersekt
 ionalität leben\n„Wenn sie eintreten\, treten wir alle ein“ – Crens
 haw/Cooper\n\nDer Workshop richtet sich explizit an qt*i*BI*PoC und BI*PoC
 . Er findet auf Deutsch und Englisch statt.\n \n“Auf einer gesellschaftl
 ichen Ebene sind unsere [queeren / fetten / …] Körper of Color kaum sic
 htbar und zugleich ständig präsent als Gegenstand von unbefriedigenden V
 erhandlungen. Auf einer persönlichen Ebene sind wir mit den Möglichkeite
 n und Unmöglichkeiten unserer Körper weitestgehend auf uns selbst gestel
 lt. Gemeinsam möchten wir in diesem Workshop persönliche\, aber auch str
 ukturelle Aspekte unserer Körperlichkeit reflektieren. Erster und wichtig
 ster Bezugspunkt für diese Erkundung sind wir selbst.”\n \nDer Workshop
  beinhaltet u. a. verschiedene Gesprächs- und Reflexionsformate\, leichte
  Körperbewusstseinsübungen und eine Kurzfilmvorführung. \n\nGlossar:\nq
 t*i*BI*PoC: queer\, trans*\, inter*\, black\, indigenous*\, people of colo
 r\nBI*PoC:  black\, indigenous*\, people of color\n\nWorkshopleiter*innen:
 \nDEMASK ist ein Kollektiv politisch engagierter Menschen mit dem Ziel\, d
 ie vorherrschenden Vorstellungen von Geschlecht aus einer queeren intersek
 tionalen Perspektive of Color zu hinterfragen. DEMASK organisiert Veransta
 ltungen von und für qt*i*BI*PoC in und um Köln und schafft interaktive R
 äume\, um die Auseinandersetzung mit (Schwarz-)feministischen und postkol
 onialen Theorien zu fördern. Internet: https://demask.home.blog/de/\n\nWO
 RKSHOP 2\n„Let’s talk about Alliances“\n\nDer Workshop „Let’s ta
 lk about Alliances“ bietet den Teilnehmer*innen Gesprächsangebote über
  die Frage nach Allianzen zwischen Menschen\, die von unterschiedlichen Di
 skriminierungsformen betroffen sind. Welche Rolle spielt Intersektionalit
 ät im diskriminierungskritischen Alltag? Welche Allianzen sind möglich? 
 Welche Trennungen sind nötig? Wie stellen wir uns eigentlich eine Zukunft
  vor und was brauchen wir dafür?\n\nDer Workshop teilt sich in drei aufei
 nander aufbauende Einheiten: 1) Die Auseinandersetzung mit der eigenen ges
 ellschaftlichen Position\, Privilegien und Betroffenheit. 2) Taking Up Spa
 ce: Ausgehend von ihren gesellschaftlichen Positionierungen überlegen sic
 h die Teilnehmer*innen beispielhaft an konkreten Situationen\, wann sie se
 lbst zu einer Situation beitragen können\, indem sie für sich und ihre P
 ositionen Raum einfordern oder sie den Raum\, den sie einnehmen\, für and
 ere\, weniger privilegierte Perspektiven frei geben. 3) Das vermeintliche 
 Trilemma der Zukunftsvorstellungen: Die Teilnehmer*innen nehmen ihre Selbs
 tbezeichnungen und die damit verknüpften Bedürfnisse als Ausgangspunkt\,
  um verschiedene Zukunftsvorstellungen zu diskutieren.\n\nWorkshopleiter*i
 nnen:\nMine Wenzel (trans*nonbinary/endo/weiß ) ist DJ*\, Musikerin* und 
 trans*aktivistisches Anar*chic. Sie* produziert den trans*ginger Teapot Ca
 st\, gibt Vorträge und Workshops zu Machtkritik und Themen der Antidiskri
 minierung und graswurzelt sich über verschiedene Soziale Medien und analo
 ge Netzwerke um das Cistem zu unterwandern. Instagram: https://instagram.c
 om/mine_undclaudia/\nArpana Aischa Berndt (cis/ weiblich/ endo/ PoC) ist A
 utorin und Journalistin und Antirassismustrainerin. Sie veröffentlicht Ku
 rzgeschichten\, Artikel und Podcasts online\, in Zeitschriften und Antholo
 gien. Sie gibt Workshops zu machtkritischem Schreiben\, Allyship und Antir
 assismus. Instagram: https://instagram.com/a_aischa/\n\nDie Workshopleiten
 den erklären alle verwendeten Begriffe aus der Diskriminierungskritik und
  gehen auch auf Fragen diesbezüglich ein. Teilnehmer*innen sollten jedoc
 h bereits ein Bewusstsein für die Existenz von Machtverhältnissen und D
 iskriminierung mitbringen.\n\nPositionierung der Veranstaltenden:\nDie Ver
 anstaltenden behalten sich vor\, Personen\, die mit rassistischen oder rec
 htspopulistischen Störungen auffallen\, rechtsextremen Parteien oder Orga
 nisationen angehören\, der rechtsextremen Szene zuzuordnen sind oder bere
 its in der Vergangenheit durch rassistische\, nationalistische\, antisemit
 ische\, trans*feindliche\, sexistische oder sonstige menschenverachtende 
 Äußerungen in Erscheinung getreten sind\, den Zutritt zur Veranstaltung 
 zu verwehren oder von dieser auszuschließen.\n\nOrganisiert und konzipier
 t von Nada Schroer und Luise Pilz für And She Was Like: BÄM!.\n\nVeranst
 alterin:\nAnd She Was Like: BÄM!\n\nAnsprechpartnerin:\nLisa Pommerenke\,
  E-Mail: lisa.p@andshewaslikebam.de\n\nKosten / Anmeldung:\nMaximal 20 Tei
 lnehmer*innen\, Anmeldung bis zum 15.1.2020 an events@andshewaslikebam.de 
 \n\nVeranstaltungsort:\nMuseum Ludwig\, Heinrich-Böll-Platz\, 50667 Köln
 \, [map id=1018]
END:VEVENT
BEGIN:VTIMEZONE
TZID:Europe/Berlin
X-LIC-LOCATION:Europe/Berlin
BEGIN:STANDARD
DTSTART:20191027T020000
TZOFFSETFROM:+0200
TZOFFSETTO:+0100
TZNAME:CET
END:STANDARD
END:VTIMEZONE
END:VCALENDAR