BEGIN:VCALENDAR
VERSION:2.0
PRODID:-//wp-events-plugin.com//7.2.3.1//EN
TZID:Europe/Berlin
X-WR-TIMEZONE:Europe/Berlin
BEGIN:VEVENT
UID:1746@frauenportal.koeln
DTSTART;TZID=Europe/Berlin;VALUE=DATE:20190217
DTEND;TZID=Europe/Berlin;VALUE=DATE:20190218
DTSTAMP:20211018T130032Z
URL:https://frauenportal.koeln/veranstaltungen/bagles-movies/
SUMMARY:Bagles & Movies
DESCRIPTION:Mit Eric Friedler präsentiert die WIZO-Gruppe & AVIV Köln e.V
 . drei Arbeiten eines der wichtigsten deutschen Dokumentarﬁlmer:\n\n11.3
 0 Uhr:  Einlass \n12.00 - 13.20 Uhr: It must  Schwing\n„It must schwing
 “: Zwei Deutsche ﬂiehen vor den Nazis nach New York und gründen Blue 
 Note Records. Sie sind keine Musiker\,aber haben ein Gespür für den Groo
 ve. Ihre Forderunge: “It must Swing!“ Sie prägten die Musikgeschichte
  für immer.\n\n14.30 Uhr: Einlass \n15.00 - 16.30 UHr: Eis am Stiel\n„E
 is am Stiel“\, das war 1978 ein softpornograﬁscher Welthit. 40 Jahre s
 päter zeigt ein Dokumentarﬁlm\, unter welch drastischen Bedingungen der
  Film einst entstand.\n\n18.00 Uhr: Einlass \n18.30 - 20.00 Uhr The voice 
  of Peace\nEin Playboy als Staatsfeind? Drei Meilen vor der Küste Israels
  schipperte Abie Nathan mit seinem schwimmenden Radiosender - und brachte 
 den jüdischen Staat gegen sich auf. Die ARD-Doku „The Voice of Peace“
  zeichnet ein komplexes Bild des Friedensaktivisten als Playboy\, Radiopir
 at und Palästinenserfreund.\n\nFür Gespräche im Anschluss einer jeden F
 ilmvorführung steht der Regisseur zur Verfügung.\n\nKoshere Speisen und 
 Getränke können an einer Snackbar erworben werden.\n\nSeit 2011 leitet  
 Eric Friedler beim NDR die Abteilung Sonderprojekte im Programmbereich Kul
 tur & Dokumentationen. Für seine Produktionen und Filme wurde Friedler al
 s Regisseur und Drehbuchautor vielfach international und national ausgezei
 chnet\, unter anderen mehrfach mit dem Deutschen Fernsehpreis und dem Hann
 s-Joachim-Friedrichs-Preis. 2016 wurde Eric Friedler für seinen Film "Agh
 et – Ein Völkermord" mit dem armenischen Staatspreis ausgezeichnet.\n\n
 Hier ist die Einladung: wizo_filmtag_einladung_2019\, pdf-Datei\, 898 KB\n
 \nVeranstalterin:\nWIZO Gruppe und AVIV Köln e.V.\, WIZO Köln\n\nAnsprec
 hpartnerin:\nGoldita Nasta\, E-Mail: wizocgn@gmail.com\n\nKosten / Anmeldu
 ng\nEintritt 15 € pro Film / für alle 3 Filme 30 €\, SchülerInnen un
 d StudentInnen 7\,50 € / für alle 3 Filme 15 € \nAnmeldung unter: wiz
 ocgn@gmail.com.\nDer Erlös dieser Veranstaltung kommt der WIZO-Kindertage
 sstätte in Givat Yearim in Israel zu Gute.\n\nVeranstaltungsort:\nSynagog
 e Köln\, Roonstr. 50\, 50674 Köln\, [map id=1085]
END:VEVENT
BEGIN:VTIMEZONE
TZID:Europe/Berlin
X-LIC-LOCATION:Europe/Berlin
BEGIN:STANDARD
DTSTART:20181028T020000
TZOFFSETFROM:+0200
TZOFFSETTO:+0100
TZNAME:CET
END:STANDARD
END:VTIMEZONE
END:VCALENDAR