BEGIN:VCALENDAR
VERSION:2.0
PRODID:-//wp-events-plugin.com//7.2.3.1//EN
TZID:Europe/Berlin
X-WR-TIMEZONE:Europe/Berlin
BEGIN:VEVENT
UID:3376@frauenportal.koeln
DTSTART;TZID=Europe/Berlin:20211113T100000
DTEND;TZID=Europe/Berlin:20211113T170000
DTSTAMP:20221028T094813Z
URL:https://frauenportal.koeln/veranstaltungen/barcamp-gender-2021-vielfal
 t-zusammenhalt-offenheit/
SUMMARY:Barcamp Gender 2021: Vielfalt * Zusammenhalt * Offenheit
DESCRIPTION:Aus der Ankündigung:\n\n"Komm zum Barcamp und diskutiere mit a
 nderen über Feminismus\, Geschlechter-Gerechtigkeit und Visionen für die
  offene und vielfältige Gesellschaft post Corona!\n\nEin Barcamp ist eine
  Debattenplattform für alle Fragen\, die uns bewegen:\n\nWelche Visionen 
 haben wir für eine Zeit nach Corona? Was bleibt\, was muss sich ändern?\
 n\nWelche Perspektiven werden berücksichtigt? Welche sind marginalisiert?
 \n\nWie sieht feministische Politik für alle aus? Wo ist der feministisch
 e Aktivismus? Welche Rolle spielt Intersektionalität?\n\nUnd natürlich a
 lle Fragen\, die Euch umtreiben!\n\nMit Euch wollen wir dazu diskutieren\,
  Antworten finden\, Initiativen starten und die politische Debatte in Gang
  bringen. In Workshops bieten wir Euch Raum für Eure Impulse\, progressiv
 e Ideen und Vernetzung.\nAlle gestalten gemeinsam das Programm und entsche
 iden über die Themen.\n\nDie FES lädt Dich gemeinsam mit dem Gender-Netz
 werk NRW zum Barcamp ein und freut sich auf deine Teilnahme!\nDie Teilnahm
 e ist kostenfrei."\n\nHier geht es zur Einladung: www.fes.de/barcampgender
 \n\nVeranstalterinnen:\n\n 	Friedrich-Ebert-Stiftung\, Landesbüro NRW\, w
 ww.fes.de\n 	Gender Netzwerk NRW\, www.netzwerk-fgf.nrw.de\n 	VHS Köln\, 
 www.vhs-koeln.de\n\nAnsprechpartnerin:\nJeanette Rußbült\, Friedrich-Ebe
 rt-Stiftung\, Landesbüro NRW\, Tel. 0228 / 883 - 7210\, E-Mail: jeanette.
 russbuelt@fes.de\n\nKosten / Anmeldung:\nEintritt frei\, Anmeldung erforde
 rlich.\n\nVeranstaltungsort:\nonline
END:VEVENT
BEGIN:VTIMEZONE
TZID:Europe/Berlin
X-LIC-LOCATION:Europe/Berlin
BEGIN:STANDARD
DTSTART:20211031T020000
TZOFFSETFROM:+0200
TZOFFSETTO:+0100
TZNAME:CET
END:STANDARD
END:VTIMEZONE
END:VCALENDAR