BEGIN:VCALENDAR
VERSION:2.0
PRODID:-//wp-events-plugin.com//7.2.3.1//EN
TZID:Europe/Berlin
X-WR-TIMEZONE:Europe/Berlin
BEGIN:VEVENT
UID:3916@frauenportal.koeln
DTSTART;TZID=Europe/Berlin:20221126T100000
DTEND;TZID=Europe/Berlin:20221126T150000
DTSTAMP:20251127T094751Z
URL:https://frauenportal.koeln/veranstaltungen/barcamp-gender-2022-feminis
 mus-macht-zukunft/
SUMMARY:Barcamp Gender 2022: Feminismus * Macht * Zukunft
DESCRIPTION:Aus der Ankündigung:\n\n"Ihr wollt Euch austauschen? Und inter
 aktiv online mit anderen Interessierten Themen rund um eine gleichberechti
 gte Gesellschaft diskutieren?\n\nUnser  online Barcamp am 26. November 202
 2 (10.00-15.00 Uhr) zu den Themen FRAUEN  Macht Zukunft bietet hierfür ei
 nen guten Ort. Diskutiere mit uns und anderen über Feminismus\, Diversit
 ät und Machtkonstellationen mit dem Ziel einer lebenswerten Zukunft für 
 alle. Das Barcamp steht allen offen.\n\nAuf dem Weg zu einer gleichberecht
 igten Gesellschaft ist es wichtig\, die eigene Perspektive zu hinterfragen
 . Menschen sind von verschiedenen Formen der Diskriminierung betroffen\, v
 iele von gleich mehreren. Intersektionaler Feminismus berücksichtigt unte
 rschiedliche Perspektiven\, z. B. von Schwarzen\, behinderten und queeren 
 Frauen sowie inter* und trans* Personen.\n\nWelche Antworten bietet der in
 tersektionale Feminismus in diesen Zeiten? Wie wollen wir in Zukunft mitei
 nander leben\, und wie können wir mehr Gerechtigkeit umsetzen? Wie änder
 n wir gemeinsam Machtverhältnisse? Welche Ideen hast Du dazu?\n\nEin Tag 
 voller Empowerment! Mit dem Format Barcamp ist es möglich\, eigene Vorsch
 läge und Themen in Sessions einzubringen und miteinander zu diskutieren. 
 Die FES bietet zusammen mit dem Gender Netzwerk NRW das Barcamp an und fre
 ut sich auf Deine Teilnahme! Die Teilnahme ist kostenfrei."\n\nHier geht e
 s zur Einladung: www.fes.de/barcampgender\n\nVeranstalterinnen:\n\n 	Fried
 rich-Ebert-Stiftung\, Landesbüro NRW\, www.fes.de\n 	Gender Netzwerk NRW\
 , www.netzwerk-fgf.nrw.de\n\nAnsprechpartnerin:\nJeanette Rußbült\, Frie
 drich-Ebert-Stiftung\, Landesbüro NRW\, Tel. 0228 / 883 - 7211\, E-Mail: 
 jeanette.russbuelt@fes.de\n\nKosten / Anmeldung:\nKeine Kosten.\n\nVeranst
 altungsort:\nonline
END:VEVENT
BEGIN:VTIMEZONE
TZID:Europe/Berlin
X-LIC-LOCATION:Europe/Berlin
BEGIN:STANDARD
DTSTART:20221030T020000
TZOFFSETFROM:+0200
TZOFFSETTO:+0100
TZNAME:CET
END:STANDARD
END:VTIMEZONE
END:VCALENDAR