BEGIN:VCALENDAR
VERSION:2.0
PRODID:-//wp-events-plugin.com//7.2.3.1//EN
TZID:Europe/Berlin
X-WR-TIMEZONE:Europe/Berlin
BEGIN:VEVENT
UID:1487@frauenportal.koeln
DTSTART;TZID=Europe/Berlin:20191027T110000
DTEND;TZID=Europe/Berlin:20191027T130000
DTSTAMP:20190930T184843Z
URL:https://frauenportal.koeln/veranstaltungen/beginen-fruehstueck-2-2019-
 10-27/
SUMMARY:Beginen-Frühstück
DESCRIPTION:Von immer wieder anderen Beginen und Mitfrauen werden Themen vo
 n sozialer\, gesellschaftlicher\, spiritueller Bedeutung vorgeschlagen\; d
 ieses Mal:\n\nVon Katzen und Menschen\n\nVeranstalterin: \nBeginen Köln e
 .V.\n\nAnsprechpartnerinnen:\nChristine Müthrath\, Tel.: 0221 / 9655820\,
  E-Mail: info@beginen.de\n\nKosten / Anmeldung:\nEintritt frei – Spende/
 Kostenbeitrag erbeten. Brot\, Butter und Getränke sind vorhanden. Es wird
  darum gebeten\, dass jede Frau für die übrigen Zutaten etwas mitbringt.
 \nBitte melden Sie sich bis Donnerstag vor dem Frühstück telefonisch (02
 21/9655820) oder per Mail an. Teilnahme nur nach vorheriger Anmeldung mög
 lich.\n\nVeranstaltungsort:\nBeginentreff im Beginenhof Köln\, Unter Lind
 en 119\, 50859 Köln\, [map id=1048]
END:VEVENT
BEGIN:VTIMEZONE
TZID:Europe/Berlin
X-LIC-LOCATION:Europe/Berlin
BEGIN:STANDARD
DTSTART:20191027T020000
TZOFFSETFROM:+0200
TZOFFSETTO:+0100
TZNAME:CET
END:STANDARD
END:VTIMEZONE
END:VCALENDAR