BEGIN:VCALENDAR
VERSION:2.0
PRODID:-//wp-events-plugin.com//7.2.3.1//EN
TZID:Europe/Berlin
X-WR-TIMEZONE:Europe/Berlin
BEGIN:VEVENT
UID:2203@frauenportal.koeln
DTSTART;TZID=Europe/Berlin:20200126T110000
DTEND;TZID=Europe/Berlin:20200126T130000
DTSTAMP:20191231T091538Z
URL:https://frauenportal.koeln/veranstaltungen/beginen-fruehstueck-3-2020-
 01-26/
SUMMARY:Beginen-Frühstück
DESCRIPTION:Von immer wieder anderen Beginen und Mitfrauen werden Themen vo
 n sozialer\, gesellschaftlicher\, spiritueller Bedeutung vorgeschlagen\, d
 ieses Mal: Vertrauen.\n\nVeranstalterin: \nBeginen Köln e.V.\n\nAnsprechp
 artnerinnen:\nChristine Müthrath\, Tel.: 0221 / 9655820\, E-Mail: info@be
 ginen.de\n\nKosten / Anmeldung:\nEintritt frei – Spende/Kostenbeitrag er
 beten. Brot\, Butter und Getränke sind vorhanden. Es wird darum gebeten\,
  dass jede Frau für die übrigen Zutaten etwas mitbringt.\nBitte melden S
 ie sich bis Donnerstag vor dem Frühstück telefonisch (0221/9655820) oder
  per Mail an. Teilnahme nur nach vorheriger Anmeldung möglich.\n\nVeranst
 altungsort:\nBeginentreff im Beginenhof Köln\, Unter Linden 119\, 50859 K
 öln\, [map id=1048]
END:VEVENT
BEGIN:VTIMEZONE
TZID:Europe/Berlin
X-LIC-LOCATION:Europe/Berlin
BEGIN:STANDARD
DTSTART:20191027T020000
TZOFFSETFROM:+0200
TZOFFSETTO:+0100
TZNAME:CET
END:STANDARD
END:VTIMEZONE
END:VCALENDAR