BEGIN:VCALENDAR
VERSION:2.0
PRODID:-//wp-events-plugin.com//7.2.3.1//EN
TZID:Europe/Berlin
X-WR-TIMEZONE:Europe/Berlin
BEGIN:VEVENT
UID:2205@frauenportal.koeln
DTSTART;TZID=Europe/Berlin:20200329T110000
DTEND;TZID=Europe/Berlin:20200329T130000
DTSTAMP:20200316T145349Z
URL:https://frauenportal.koeln/veranstaltungen/beginen-fruehstueck-3-2020-
 03-29/
SUMMARY:Beginen-Frühstück
DESCRIPTION:Der Termin findet nicht statt.\n\nVon immer wieder anderen Begi
 nen und Mitfrauen werden Themen von sozialer\, gesellschaftlicher\, spirit
 ueller Bedeutung vorgeschlagen\, dieses Mal:\n\nOrdnung ist das halbe Lebe
 n.\n\nVeranstalterin: \nBeginen Köln e.V.\n\nAnsprechpartnerinnen:\nChris
 tine Müthrath\, Tel.: 0221 / 9655820\, E-Mail: info@beginen.de\n\nKosten 
 / Anmeldung:\nEintritt frei – Spende/Kostenbeitrag erbeten. Brot\, Butte
 r und Getränke sind vorhanden. Es wird darum gebeten\, dass jede Frau fü
 r die übrigen Zutaten etwas mitbringt.\nBitte melden Sie sich bis Donners
 tag vor dem Frühstück telefonisch (0221/9655820) oder per Mail an. Teiln
 ahme nur nach vorheriger Anmeldung möglich.\n\nVeranstaltungsort:\nBegine
 ntreff im Beginenhof Köln\, Unter Linden 119\, 50859 Köln\, [map id=1048
 ]
END:VEVENT
BEGIN:VTIMEZONE
TZID:Europe/Berlin
X-LIC-LOCATION:Europe/Berlin
BEGIN:DAYLIGHT
DTSTART:20200329T030000
TZOFFSETFROM:+0100
TZOFFSETTO:+0200
TZNAME:CEST
END:DAYLIGHT
END:VTIMEZONE
END:VCALENDAR