BEGIN:VCALENDAR
VERSION:2.0
PRODID:-//wp-events-plugin.com//7.2.3.1//EN
TZID:Europe/Berlin
X-WR-TIMEZONE:Europe/Berlin
BEGIN:VEVENT
UID:2712@frauenportal.koeln
DTSTART;TZID=Europe/Berlin:20200531T110000
DTEND;TZID=Europe/Berlin:20200531T130000
DTSTAMP:20200529T145624Z
URL:https://frauenportal.koeln/veranstaltungen/beginen-fruehstueck-3-2020-
 05-31/
SUMMARY:Beginen-Frühstück
DESCRIPTION:Der Termin findet nicht statt.\n\nVon immer wieder anderen Begi
 nen und Mitfrauen werden Themen von sozialer\, gesellschaftlicher\, spirit
 ueller Bedeutung vorgeschlagen. \n\nVeranstalterin: \nBeginen Köln e.V.\n
 \nAnsprechpartnerinnen:\nChristine Müthrath\, Tel.: 0221 / 9655820\, E-Ma
 il: info@beginen.de\n\nKosten / Anmeldung:\nEintritt frei – Spende/Koste
 nbeitrag erbeten. Brot\, Butter und Getränke sind vorhanden. Es wird daru
 m gebeten\, dass jede Frau für die übrigen Zutaten etwas mitbringt.\nBit
 te melden Sie sich bis Donnerstag vor dem Frühstück telefonisch (0221/96
 55820) oder per Mail an. Teilnahme nur nach vorheriger Anmeldung möglich.
 \n\nVeranstaltungsort:\nBeginentreff im Beginenhof Köln\, Unter Linden 11
 9\, 50859 Köln\, [map id=1048]
END:VEVENT
BEGIN:VTIMEZONE
TZID:Europe/Berlin
X-LIC-LOCATION:Europe/Berlin
BEGIN:DAYLIGHT
DTSTART:20200329T030000
TZOFFSETFROM:+0100
TZOFFSETTO:+0200
TZNAME:CEST
END:DAYLIGHT
END:VTIMEZONE
END:VCALENDAR