BEGIN:VCALENDAR
VERSION:2.0
PRODID:-//wp-events-plugin.com//7.2.3.1//EN
TZID:Europe/Berlin
X-WR-TIMEZONE:Europe/Berlin
BEGIN:VEVENT
UID:2992@frauenportal.koeln
DTSTART;TZID=Europe/Berlin:20211128T110000
DTEND;TZID=Europe/Berlin:20211128T123000
DTSTAMP:20220228T175536Z
URL:https://frauenportal.koeln/veranstaltungen/beginen-fruehstueck-4-2021-
 11-28/
SUMMARY:Beginen-Matinée (statt Beginen-Frühstück)
DESCRIPTION:Von immer wieder anderen Beginen und Mitfrauen werden Themen vo
 n sozialer\, gesellschaftlicher\, spiritueller Bedeutung vorgeschlagen.\n\
 nWegen der Hygienemaßnahmen wird nicht wie gewohnt gemeinsam gefrühstüc
 kt\, sondern sich nur über das Thema ausgetauscht.\n\nDieses Mal: Zuversi
 cht\n\nVeranstalterin: \nBeginen Köln e.V.\n\nAnsprechpartnerinnen:\nChri
 stine Müthrath\, Tel.: 0221 / 9655820\, E-Mail: info@beginen.de\n\nKosten
  / Anmeldung:\nDie Anzahl der Teilnehmer*innen ist begrenzt.\nDeshalb ist 
 eine Anmeldung erforderlich.\nTeilnahme ist nur für Geimpfte\, Genesene o
 der aktuell Getestete möglich.\nWeiterhin sind auch die AHA-Regeln zu bea
 chten (Abstand\, Hygiene\, Masken).\nKostenbeitrag auf Spendenbasis.\n\nVe
 ranstaltungsort:\nBeginentreff im Beginenhof Köln\, Unter Linden 119\, 50
 859 Köln\, [map id=1048]
END:VEVENT
BEGIN:VTIMEZONE
TZID:Europe/Berlin
X-LIC-LOCATION:Europe/Berlin
BEGIN:STANDARD
DTSTART:20211031T020000
TZOFFSETFROM:+0200
TZOFFSETTO:+0100
TZNAME:CET
END:STANDARD
END:VTIMEZONE
END:VCALENDAR