BEGIN:VCALENDAR
VERSION:2.0
PRODID:-//wp-events-plugin.com//7.2.3.1//EN
TZID:Europe/Berlin
X-WR-TIMEZONE:Europe/Berlin
BEGIN:VEVENT
UID:3497@frauenportal.koeln
DTSTART;TZID=Europe/Berlin:20221030T110000
DTEND;TZID=Europe/Berlin:20221030T130000
DTSTAMP:20211105T111123Z
URL:https://frauenportal.koeln/veranstaltungen/beginen-fruehstueck-5-2022-
 10-30/
SUMMARY:Beginen-Frühstück
DESCRIPTION:Von immer wieder anderen Beginen und Mitfrauen werden Themen vo
 n sozialer\, gesellschaftlicher\, spiritueller Bedeutung vorgeschlagen.\n\
 nVeranstalterin: \nBeginen Köln e.V.\n\nAnsprechpartnerinnen:\nChristine 
 Müthrath\, Tel.: 0221 / 9655820\, E-Mail: info@beginen.de\n\nKosten / Anm
 eldung:\nEintritt frei – Spende/Kostenbeitrag erbeten. Brot\, Butter und
  Getränke sind vorhanden. Es wird darum gebeten\, dass jede Frau für die
  übrigen Zutaten etwas mitbringt.\nBitte melden Sie sich bis Donnerstag v
 or dem Frühstück telefonisch (0221/9655820) oder per Mail an. Teilnahme 
 nur nach vorheriger Anmeldung möglich.\n\nVeranstaltungsort:\nBeginentref
 f im Beginenhof Köln\, Unter Linden 119\, 50859 Köln\, [map id=1048]
END:VEVENT
BEGIN:VTIMEZONE
TZID:Europe/Berlin
X-LIC-LOCATION:Europe/Berlin
BEGIN:STANDARD
DTSTART:20221030T020000
TZOFFSETFROM:+0200
TZOFFSETTO:+0100
TZNAME:CET
END:STANDARD
END:VTIMEZONE
END:VCALENDAR