BEGIN:VCALENDAR
VERSION:2.0
PRODID:-//wp-events-plugin.com//7.2.3.1//EN
TZID:Europe/Berlin
X-WR-TIMEZONE:Europe/Berlin
BEGIN:VEVENT
UID:3498@frauenportal.koeln
DTSTART;TZID=Europe/Berlin:20221127T110000
DTEND;TZID=Europe/Berlin:20221127T130000
DTSTAMP:20221031T094327Z
URL:https://frauenportal.koeln/veranstaltungen/beginen-fruehstueck-5-2022-
 11-27/
SUMMARY:Beginen-Frühstück
DESCRIPTION:Von immer wieder anderen Beginen und Mitfrauen werden Themen vo
 n sozialer\, gesellschaftlicher\, spiritueller Bedeutung vorgeschlagen. Di
 ese Mal:\n\nGroßzügigkeit gegen Kleinlichkeit\n\nVeranstalterin: \nBegin
 en Köln e.V.\n\nAnsprechpartnerinnen:\nChristine Müthrath\, Tel.: 0221 /
  9655820\, E-Mail: info@beginen.de\n\nKosten / Anmeldung:\nEintritt frei 
 – Spende/Kostenbeitrag erbeten. Brot\, Butter und Getränke sind vorhand
 en. Es wird darum gebeten\, dass jede Frau für die übrigen Zutaten etwas
  mitbringt.\nBitte melden Sie sich bis Donnerstag vor dem Frühstück tele
 fonisch (0221/9655820) oder per Mail an. Teilnahme nur nach vorheriger Anm
 eldung möglich.\n\nVeranstaltungsort:\nBeginentreff im Beginenhof Köln\,
  Unter Linden 119\, 50859 Köln\, [map id=1048]
END:VEVENT
BEGIN:VTIMEZONE
TZID:Europe/Berlin
X-LIC-LOCATION:Europe/Berlin
BEGIN:STANDARD
DTSTART:20221030T020000
TZOFFSETFROM:+0200
TZOFFSETTO:+0100
TZNAME:CET
END:STANDARD
END:VTIMEZONE
END:VCALENDAR