BEGIN:VCALENDAR
VERSION:2.0
PRODID:-//wp-events-plugin.com//7.2.3.1//EN
TZID:Europe/Berlin
X-WR-TIMEZONE:Europe/Berlin
BEGIN:VEVENT
UID:4063@frauenportal.koeln
DTSTART;TZID=Europe/Berlin:20230226T110000
DTEND;TZID=Europe/Berlin:20230226T130000
DTSTAMP:20230131T141055Z
URL:https://frauenportal.koeln/veranstaltungen/beginen-fruehstueck-6-2023-
 02-26/
SUMMARY:Beginen-Frühstück
DESCRIPTION:Von immer wieder anderen Beginen und Mitfrauen werden Themen vo
 n sozialer\, gesellschaftlicher\, spiritueller Bedeutung vorgeschlagen\, d
 ieses Mal: Echte und unechte Harmonie\n\nVeranstalterin: \nBeginen Köln e
 .V.\n\nAnsprechpartnerin:\nChristine Müthrath\, Tel.: 0221 / 9655820\, E-
 Mail: info@beginen.de\n\nKosten / Anmeldung:\nEintritt frei – Spende/Kos
 tenbeitrag erbeten. Brot\, Butter und Getränke sind vorhanden. Es wird da
 rum gebeten\, dass jede Frau für die übrigen Zutaten etwas mitbringt.\nB
 itte melden Sie sich bis Donnerstag vor dem Frühstück telefonisch (0221/
 9655820) oder per Mail an. Teilnahme nur nach vorheriger Anmeldung möglic
 h.
LOCATION:Beginenhof Köln\, Unter Linden 119\, 50859 Köln
GEO:50.9636513;6.8421158
X-APPLE-STRUCTURED-LOCATION;VALUE=URI;X-ADDRESS=Unter Linden 119\, Köln\, 
 50859\, Veranstaltungsort\, Deutschland;X-APPLE-RADIUS=100;X-TITLE=Beginen
 hof Köln:geo:50.9636513,6.8421158
END:VEVENT
BEGIN:VTIMEZONE
TZID:Europe/Berlin
X-LIC-LOCATION:Europe/Berlin
BEGIN:STANDARD
DTSTART:20221030T020000
TZOFFSETFROM:+0200
TZOFFSETTO:+0100
TZNAME:CET
END:STANDARD
END:VTIMEZONE
END:VCALENDAR